FILENAME: O4610636.NWS.1008259.tif
QUADRANGLE_NAME: SCHULTZ COULEE
QUADRANT: NW
WEST_LONGITUDE: -106 37 30.00000
EAST_LONGITUDE: -106 33 45.00000
NORTH_LATITUDE: 46 30 0.00000
SOUTH_LATITUDE: 46 26 15.00000
PRODUCTION_DATE: 1999 5 11
RASTER_ORDER: LEFT_RIGHT/TOP_BOTTOM
BAND_ORGANIZATION: SINGLE FILE
BAND_CONTENT: BLACK&WHITE
BAND_CONTENT: UNDEFINED
BAND_CONTENT: UNDEFINED
BITS_PER_PIXEL: 8
SAMPLES_AND_LINES: 5587 7645
HORIZONTAL_DATUM: NAD83
HORIZONTAL_COORDINATE_SYSTEM: UTM
COORDINATE_ZONE: 13
HORIZONTAL_UNITS: METERS
HORIZONTAL_RESOLUTION: 1.00000
SECONDARY_HORIZONTAL_DATUM: NAD27
XY_ORIGIN: 374822.00000 5151187.00000
SECONDARY_XY_ORIGIN: 374863.67500 5150968.17800
NATION: US
NATION: "SCIENCE
STATE: MT
NW_QUAD_CORNER_XY: 375311.53300 5150886.12400
NE_QUAD_CORNER_XY: 380107.18200 5150789.33600
SE_QUAD_CORNERY_XY: 379969.84400 5143844.71400
SW_QUAD_CORNER_XY: 375168.69900 5143941.51300
SECONDARY_NW_QUAD_XY: 375307.73100 5150667.88300
SECONDARY_NE_QUAD_XY: 380103.52600 5150571.09200
SECONDARY_SE_QUAD_XY: 379966.18800 5143626.50600
SECONDARY_SW_QUAD_XY: 375164.89700 5143723.30700
RMSE_XY: 1.10000
IMAGE_SOURCE: BLACK AND WHITE FILM
SOURCE_IMAGE_ID: NAPP 9110 222
SOURCE_IMAGE_DATE: 1996 08 11
SOURCE_IMAGE_ID: NAPP 9111 074
SOURCE_IMAGE_DATE: 1996 08 11
SOURCE_DEM_DATE: 1966 00 00
AGENCY: WESTERN MAPPING CENTER (WMC)
PRODUCER: UNDEFINED
PRODUCTION_SYSTEM: GIS/MAGIC
COMPRESSION: UNDEFINED
STANDARD_VERSION: 1996 12
METADATA_DATE: 1999 06 02
DATA_FILE_SIZE: 42718202
BYTE_COUNT: 5587
