FILENAME: O4610640.SES.1009149.tif
QUADRANGLE_NAME: BUTTERFLY CREEK
QUADRANT: SE
WEST_LONGITUDE: -106 3 45.00000
EAST_LONGITUDE: -106 0 0.00000
NORTH_LATITUDE: 46 26 15.00000
SOUTH_LATITUDE: 46 22 30.00000
PRODUCTION_DATE: 1999 5 11
RASTER_ORDER: LEFT_RIGHT/TOP_BOTTOM
BAND_ORGANIZATION: SINGLE FILE
BAND_CONTENT: BLACK&WHITE
BAND_CONTENT: UNDEFINED
BAND_CONTENT: UNDEFINED
BITS_PER_PIXEL: 8
SAMPLES_AND_LINES: 5541 7611
HORIZONTAL_DATUM: NAD83
HORIZONTAL_COORDINATE_SYSTEM: UTM
COORDINATE_ZONE: 13
HORIZONTAL_UNITS: METERS
HORIZONTAL_RESOLUTION: 1.00000
SECONDARY_HORIZONTAL_DATUM: NAD27
XY_ORIGIN: 417941.00000 5143508.00000
SECONDARY_XY_ORIGIN: 417982.12800 5143288.94100
NATION: US
NATION: "SCIENCE
STATE: MT
NW_QUAD_CORNER_XY: 418379.22800 5143207.03100
NE_QUAD_CORNER_XY: 423180.42600 5143144.40600
SE_QUAD_CORNERY_XY: 423092.63300 5136199.78200
SW_QUAD_CORNER_XY: 418285.94800 5136262.41400
SECONDARY_NW_QUAD_XY: 418376.74300 5142988.80300
SECONDARY_NE_QUAD_XY: 423178.08600 5142926.17600
SECONDARY_SE_QUAD_XY: 423090.29400 5135981.58800
SECONDARY_SW_QUAD_XY: 418283.46200 5136044.22200
RMSE_XY: 1.40000
IMAGE_SOURCE: BLACK AND WHITE FILM
SOURCE_IMAGE_ID: NAPP 9089 048
SOURCE_IMAGE_DATE: 1996 07 07
SOURCE_IMAGE_ID: NAPP 9090 059
SOURCE_IMAGE_DATE: 1996 07 07
SOURCE_IMAGE_ID: NAPP 9089 047
SOURCE_IMAGE_DATE: 1996 07 07
SOURCE_IMAGE_ID: NAPP 9089 050
SOURCE_IMAGE_DATE: 1996 07 07
SOURCE_DEM_DATE: 1966 00 00
AGENCY: WESTERN MAPPING CENTER (WMC)
PRODUCER: UNDEFINED
PRODUCTION_SYSTEM: GIS/MAGIC
COMPRESSION: UNDEFINED
STANDARD_VERSION: 1996 12
METADATA_DATE: 1999 06 02
DATA_FILE_SIZE: 42178092
BYTE_COUNT: 5541
