FILENAME: O4610643.SES.1008670.tif
QUADRANGLE_NAME: FORSYTH
QUADRANT: SE
WEST_LONGITUDE: -106 41 15.00000
EAST_LONGITUDE: -106 37 30.00000
NORTH_LATITUDE: 46 18 45.00000
SOUTH_LATITUDE: 46 15 0.00000
PRODUCTION_DATE: 1999 5 14
RASTER_ORDER: LEFT_RIGHT/TOP_BOTTOM
BAND_ORGANIZATION: SINGLE FILE
BAND_CONTENT: BLACK&WHITE
BAND_CONTENT: UNDEFINED
BAND_CONTENT: UNDEFINED
BITS_PER_PIXEL: 8
SAMPLES_AND_LINES: 5609 7648
HORIZONTAL_DATUM: NAD83
HORIZONTAL_COORDINATE_SYSTEM: UTM
COORDINATE_ZONE: 13
HORIZONTAL_UNITS: METERS
HORIZONTAL_RESOLUTION: 1.00000
SECONDARY_HORIZONTAL_DATUM: NAD27
XY_ORIGIN: 369576.00000 5130454.00000
SECONDARY_XY_ORIGIN: 369617.63300 5130235.49000
NATION: US
NATION: "SCIENCE
STATE: MT
NW_QUAD_CORNER_XY: 370071.36600 5130153.11700
NE_QUAD_CORNER_XY: 374883.47900 5130052.50100
SE_QUAD_CORNERY_XY: 374741.09400 5123108.10000
SW_QUAD_CORNER_XY: 369923.50100 5123208.72600
SECONDARY_NW_QUAD_XY: 370067.42000 5129934.98900
SECONDARY_NE_QUAD_XY: 374879.67900 5129834.36900
SECONDARY_SE_QUAD_XY: 374737.29400 5122890.00700
SECONDARY_SW_QUAD_XY: 369919.55600 5122990.63600
RMSE_XY: 0.80000
IMAGE_SOURCE: BLACK AND WHITE FILM
SOURCE_IMAGE_ID: NAPP 9111 069
SOURCE_IMAGE_DATE: 1996 08 11
SOURCE_IMAGE_ID: NAPP 9111 068
SOURCE_IMAGE_DATE: 1996 08 11
SOURCE_IMAGE_ID: NAPP 9110 228
SOURCE_IMAGE_DATE: 1996 08 11
SOURCE_DEM_DATE: 1966 00 00
AGENCY: WESTERN MAPPING CENTER (WMC)
PRODUCER: UNDEFINED
PRODUCTION_SYSTEM: GIS/MAGIC
COMPRESSION: UNDEFINED
STANDARD_VERSION: 1996 12
METADATA_DATE: 1999 05 24
DATA_FILE_SIZE: 42903241
BYTE_COUNT: 5609
