FILENAME: O4610644.SWS.1008679.tif
QUADRANGLE_NAME: ORINOCO
QUADRANT: SW
WEST_LONGITUDE: -106 37 30.00000
EAST_LONGITUDE: -106 33 45.00000
NORTH_LATITUDE: 46 18 45.00000
SOUTH_LATITUDE: 46 15 0.00000
PRODUCTION_DATE: 1999 5 14
RASTER_ORDER: LEFT_RIGHT/TOP_BOTTOM
BAND_ORGANIZATION: SINGLE FILE
BAND_CONTENT: BLACK&WHITE
BAND_CONTENT: UNDEFINED
BAND_CONTENT: UNDEFINED
BITS_PER_PIXEL: 8
SAMPLES_AND_LINES: 5603 7644
HORIZONTAL_DATUM: NAD83
HORIZONTAL_COORDINATE_SYSTEM: UTM
COORDINATE_ZONE: 13
HORIZONTAL_UNITS: METERS
HORIZONTAL_RESOLUTION: 1.00000
SECONDARY_HORIZONTAL_DATUM: NAD27
XY_ORIGIN: 374394.00000 5130353.00000
SECONDARY_XY_ORIGIN: 374435.54100 5130134.41600
NATION: US
NATION: "SCIENCE
STATE: MT
NW_QUAD_CORNER_XY: 374883.47900 5130052.50100
NE_QUAD_CORNER_XY: 379695.59900 5129955.68300
SE_QUAD_CORNERY_XY: 379558.69200 5123011.27300
SW_QUAD_CORNER_XY: 374741.09400 5123108.10000
SECONDARY_NW_QUAD_XY: 374879.67900 5129834.36900
SECONDARY_NE_QUAD_XY: 379691.94500 5129737.54800
SECONDARY_SE_QUAD_XY: 379555.03900 5122793.17700
SECONDARY_SW_QUAD_XY: 374737.29400 5122890.00700
RMSE_XY: 1.20000
IMAGE_SOURCE: BLACK AND WHITE FILM
SOURCE_IMAGE_ID: NAPP 9110 228
SOURCE_IMAGE_DATE: 1996 08 11
SOURCE_IMAGE_ID: NAPP 9111 069
SOURCE_IMAGE_DATE: 1996 08 11
SOURCE_IMAGE_ID: NAPP 9110 226
SOURCE_IMAGE_DATE: 1996 08 11
SOURCE_DEM_DATE: 1966 00 00
AGENCY: WESTERN MAPPING CENTER (WMC)
PRODUCER: UNDEFINED
PRODUCTION_SYSTEM: GIS/MAGIC
COMPRESSION: UNDEFINED
STANDARD_VERSION: 1996 12
METADATA_DATE: 1999 05 24
DATA_FILE_SIZE: 42834935
BYTE_COUNT: 5603
