FILENAME: O4610644.SES.1008678.tif
QUADRANGLE_NAME: ORINOCO
QUADRANT: SE
WEST_LONGITUDE: -106 33 45.00000
EAST_LONGITUDE: -106 30 0.00000
NORTH_LATITUDE: 46 18 45.00000
SOUTH_LATITUDE: 46 15 0.00000
PRODUCTION_DATE: 1999 5 14
RASTER_ORDER: LEFT_RIGHT/TOP_BOTTOM
BAND_ORGANIZATION: SINGLE FILE
BAND_CONTENT: BLACK&WHITE
BAND_CONTENT: UNDEFINED
BAND_CONTENT: UNDEFINED
BITS_PER_PIXEL: 8
SAMPLES_AND_LINES: 5597 7641
HORIZONTAL_DATUM: NAD83
HORIZONTAL_COORDINATE_SYSTEM: UTM
COORDINATE_ZONE: 13
HORIZONTAL_UNITS: METERS
HORIZONTAL_RESOLUTION: 1.00000
SECONDARY_HORIZONTAL_DATUM: NAD27
XY_ORIGIN: 379212.00000 5130257.00000
SECONDARY_XY_ORIGIN: 379253.44900 5130038.34200
NATION: US
NATION: "SCIENCE
STATE: MT
NW_QUAD_CORNER_XY: 379695.59900 5129955.68300
NE_QUAD_CORNER_XY: 384507.72500 5129862.66400
SE_QUAD_CORNERY_XY: 384376.29700 5122918.24500
SW_QUAD_CORNER_XY: 379558.69200 5123011.27300
SECONDARY_NW_QUAD_XY: 379691.94500 5129737.54800
SECONDARY_NE_QUAD_XY: 384504.21700 5129644.52600
SECONDARY_SE_QUAD_XY: 384372.79000 5122700.14600
SECONDARY_SW_QUAD_XY: 379555.03900 5122793.17700
RMSE_XY: 1.20000
IMAGE_SOURCE: BLACK AND WHITE FILM
SOURCE_IMAGE_ID: NAPP 9110 051
SOURCE_IMAGE_DATE: 1996 08 11
SOURCE_IMAGE_ID: NAPP 9110 228
SOURCE_IMAGE_DATE: 1996 08 11
SOURCE_IMAGE_ID: NAPP 9110 049
SOURCE_IMAGE_DATE: 1996 08 11
SOURCE_IMAGE_ID: NAPP 9110 053
SOURCE_IMAGE_DATE: 1996 08 11
SOURCE_DEM_DATE: 1966 00 00
AGENCY: WESTERN MAPPING CENTER (WMC)
PRODUCER: UNDEFINED
PRODUCTION_SYSTEM: GIS/MAGIC
COMPRESSION: UNDEFINED
STANDARD_VERSION: 1996 12
METADATA_DATE: 1999 05 24
DATA_FILE_SIZE: 42772274
BYTE_COUNT: 5597
