FILENAME: O4610644.NWS.1008677.tif
QUADRANGLE_NAME: ORINOCO
QUADRANT: NW
WEST_LONGITUDE: -106 37 30.00000
EAST_LONGITUDE: -106 33 45.00000
NORTH_LATITUDE: 46 22 30.00000
SOUTH_LATITUDE: 46 18 45.00000
PRODUCTION_DATE: 1999 5 14
RASTER_ORDER: LEFT_RIGHT/TOP_BOTTOM
BAND_ORGANIZATION: SINGLE FILE
BAND_CONTENT: BLACK&WHITE
BAND_CONTENT: UNDEFINED
BAND_CONTENT: UNDEFINED
BITS_PER_PIXEL: 8
SAMPLES_AND_LINES: 5597 7645
HORIZONTAL_DATUM: NAD83
HORIZONTAL_COORDINATE_SYSTEM: UTM
COORDINATE_ZONE: 13
HORIZONTAL_UNITS: METERS
HORIZONTAL_RESOLUTION: 1.00000
SECONDARY_HORIZONTAL_DATUM: NAD27
XY_ORIGIN: 374537.00000 5137298.00000
SECONDARY_XY_ORIGIN: 374578.58600 5137079.33600
NATION: US
NATION: "SCIENCE
STATE: MT
NW_QUAD_CORNER_XY: 375026.01400 5136996.97200
NE_QUAD_CORNER_XY: 379832.64900 5136900.16300
SE_QUAD_CORNERY_XY: 379695.59900 5129955.68300
SW_QUAD_CORNER_XY: 374883.47900 5130052.50100
SECONDARY_NW_QUAD_XY: 375022.21300 5136778.80300
SECONDARY_NE_QUAD_XY: 379828.99400 5136681.99100
SECONDARY_SE_QUAD_XY: 379691.94500 5129737.54800
SECONDARY_SW_QUAD_XY: 374879.67900 5129834.36900
RMSE_XY: 1.40000
IMAGE_SOURCE: BLACK AND WHITE FILM
SOURCE_IMAGE_ID: NAPP 9110 226
SOURCE_IMAGE_DATE: 1996 08 11
SOURCE_IMAGE_ID: NAPP 9110 224
SOURCE_IMAGE_DATE: 1996 08 11
SOURCE_DEM_DATE: 1966 00 00
AGENCY: WESTERN MAPPING CENTER (WMC)
PRODUCER: UNDEFINED
PRODUCTION_SYSTEM: GIS/MAGIC
COMPRESSION: UNDEFINED
STANDARD_VERSION: 1996 12
METADATA_DATE: 1999 05 24
DATA_FILE_SIZE: 42794662
BYTE_COUNT: 5597
