FILENAME: O4610646.SWS.1008898.tif
QUADRANGLE_NAME: THURLOW
QUADRANT: SW
WEST_LONGITUDE: -106 22 30.00000
EAST_LONGITUDE: -106 18 45.00000
NORTH_LATITUDE: 46 18 45.00000
SOUTH_LATITUDE: 46 15 0.00000
PRODUCTION_DATE: 1999 5 18
RASTER_ORDER: LEFT_RIGHT/TOP_BOTTOM
BAND_ORGANIZATION: SINGLE FILE
BAND_CONTENT: BLACK&WHITE
BAND_CONTENT: UNDEFINED
BAND_CONTENT: UNDEFINED
BITS_PER_PIXEL: 8
SAMPLES_AND_LINES: 5580 7630
HORIZONTAL_DATUM: NAD83
HORIZONTAL_COORDINATE_SYSTEM: UTM
COORDINATE_ZONE: 13
HORIZONTAL_UNITS: METERS
HORIZONTAL_RESOLUTION: 1.00000
SECONDARY_HORIZONTAL_DATUM: NAD27
XY_ORIGIN: 393666.00000 5129989.00000
SECONDARY_XY_ORIGIN: 393707.23100 5129770.19600
NATION: US
NATION: "SCIENCE
STATE: MT
NW_QUAD_CORNER_XY: 394131.99500 5129688.01900
NE_QUAD_CORNER_XY: 398944.13900 5129606.39400
SE_QUAD_CORNERY_XY: 398829.14500 5122661.95100
SW_QUAD_CORNER_XY: 394011.52400 5122743.58400
SECONDARY_NW_QUAD_XY: 394128.78000 5129469.87700
SECONDARY_NE_QUAD_XY: 398941.07000 5129388.24900
SECONDARY_SE_QUAD_XY: 398826.07700 5122443.84400
SECONDARY_SW_QUAD_XY: 394008.30900 5122525.48000
RMSE_XY: 0.70000
IMAGE_SOURCE: BLACK AND WHITE FILM
SOURCE_IMAGE_ID: NAPP 9097 059
SOURCE_IMAGE_DATE: 1996 07 12
SOURCE_IMAGE_ID: NAPP 9097 061
SOURCE_IMAGE_DATE: 1996 07 12
SOURCE_DEM_DATE: 1966 00 00
AGENCY: WESTERN MAPPING CENTER (WMC)
PRODUCER: UNDEFINED
PRODUCTION_SYSTEM: GIS/MAGIC
COMPRESSION: UNDEFINED
STANDARD_VERSION: 1996 12
METADATA_DATE: 1999 06 02
DATA_FILE_SIZE: 42580980
BYTE_COUNT: 5580
