FILENAME: O4610647.SES.1008904.tif
QUADRANGLE_NAME: HATHAWAY
QUADRANT: SE
WEST_LONGITUDE: -106 11 15.00000
EAST_LONGITUDE: -106 7 30.00000
NORTH_LATITUDE: 46 18 45.00000
SOUTH_LATITUDE: 46 15 0.00000
PRODUCTION_DATE: 1999 5 18
RASTER_ORDER: LEFT_RIGHT/TOP_BOTTOM
BAND_ORGANIZATION: SINGLE FILE
BAND_CONTENT: BLACK&WHITE
BAND_CONTENT: UNDEFINED
BAND_CONTENT: UNDEFINED
BITS_PER_PIXEL: 8
SAMPLES_AND_LINES: 5563 7619
HORIZONTAL_DATUM: NAD83
HORIZONTAL_COORDINATE_SYSTEM: UTM
COORDINATE_ZONE: 13
HORIZONTAL_UNITS: METERS
HORIZONTAL_RESOLUTION: 1.00000
SECONDARY_HORIZONTAL_DATUM: NAD27
XY_ORIGIN: 408119.00000 5129756.00000
SECONDARY_XY_ORIGIN: 408160.06500 5129537.11400
NATION: US
NATION: "SCIENCE
STATE: MT
NW_QUAD_CORNER_XY: 408568.44200 5129454.53700
NE_QUAD_CORNER_XY: 413380.60100 5129384.30500
SE_QUAD_CORNERY_XY: 413282.04000 5122439.84100
SW_QUAD_CORNER_XY: 408464.40400 5122510.08000
SECONDARY_NW_QUAD_XY: 408565.66500 5129236.38700
SECONDARY_NE_QUAD_XY: 413377.97100 5129166.15300
SECONDARY_SE_QUAD_XY: 413279.41000 5122221.72700
SECONDARY_SW_QUAD_XY: 408461.62700 5122291.96800
RMSE_XY: 1.50000
IMAGE_SOURCE: BLACK AND WHITE FILM
SOURCE_IMAGE_ID: NAPP 9106 020
SOURCE_IMAGE_DATE: 1996 08 07
SOURCE_IMAGE_ID: NAPP 9106 018
SOURCE_IMAGE_DATE: 1996 08 07
SOURCE_IMAGE_ID: NAPP 9106 022
SOURCE_IMAGE_DATE: 1996 08 07
SOURCE_DEM_DATE: 1966 00 00
AGENCY: WESTERN MAPPING CENTER (WMC)
PRODUCER: UNDEFINED
PRODUCTION_SYSTEM: GIS/MAGIC
COMPRESSION: UNDEFINED
STANDARD_VERSION: 1996 12
METADATA_DATE: 1999 06 02
DATA_FILE_SIZE: 42390060
BYTE_COUNT: 5563
