FILENAME: O4610647.NWS.1008902.tif
QUADRANGLE_NAME: HATHAWAY
QUADRANT: NW
WEST_LONGITUDE: -106 15 0.00000
EAST_LONGITUDE: -106 11 15.00000
NORTH_LATITUDE: 46 22 30.00000
SOUTH_LATITUDE: 46 18 45.00000
PRODUCTION_DATE: 1999 5 18
RASTER_ORDER: LEFT_RIGHT/TOP_BOTTOM
BAND_ORGANIZATION: SINGLE FILE
BAND_CONTENT: BLACK&WHITE
BAND_CONTENT: UNDEFINED
BAND_CONTENT: UNDEFINED
BITS_PER_PIXEL: 8
SAMPLES_AND_LINES: 5563 7622
HORIZONTAL_DATUM: NAD83
HORIZONTAL_COORDINATE_SYSTEM: UTM
COORDINATE_ZONE: 13
HORIZONTAL_UNITS: METERS
HORIZONTAL_RESOLUTION: 1.00000
SECONDARY_HORIZONTAL_DATUM: NAD27
XY_ORIGIN: 403411.00000 5136774.00000
SECONDARY_XY_ORIGIN: 403452.16400 5136555.03300
NATION: US
NATION: "SCIENCE
STATE: MT
NW_QUAD_CORNER_XY: 403865.91900 5136473.09000
NE_QUAD_CORNER_XY: 408672.59000 5136399.06800
SE_QUAD_CORNERY_XY: 408568.44200 5129454.53700
SW_QUAD_CORNER_XY: 403756.28800 5129528.56700
SECONDARY_NW_QUAD_XY: 403862.99600 5136254.90500
SECONDARY_NE_QUAD_XY: 408669.81300 5136180.88000
SECONDARY_SE_QUAD_XY: 408565.66500 5129236.38700
SECONDARY_SW_QUAD_XY: 403753.36500 5129310.41900
RMSE_XY: 0.90000
IMAGE_SOURCE: BLACK AND WHITE FILM
SOURCE_IMAGE_ID: NAPP 9106 111
SOURCE_IMAGE_DATE: 1996 08 07
SOURCE_IMAGE_ID: NAPP 9106 022
SOURCE_IMAGE_DATE: 1996 08 07
SOURCE_DEM_DATE: 1966 00 00
AGENCY: WESTERN MAPPING CENTER (WMC)
PRODUCER: UNDEFINED
PRODUCTION_SYSTEM: GIS/MAGIC
COMPRESSION: UNDEFINED
STANDARD_VERSION: 1996 12
METADATA_DATE: 1999 06 02
DATA_FILE_SIZE: 42406749
BYTE_COUNT: 5563
