FILENAME: O4610649.NES.1010567.tif
QUADRANGLE_NAME: GRIFFIN COULEE NW
QUADRANT: NE
WEST_LONGITUDE: -106 56 15.00000
EAST_LONGITUDE: -106 52 30.00000
NORTH_LATITUDE: 46 15 0.00000
SOUTH_LATITUDE: 46 11 15.00000
PRODUCTION_DATE: 1999 5 25
RASTER_ORDER: LEFT_RIGHT/TOP_BOTTOM
BAND_ORGANIZATION: SINGLE FILE
BAND_CONTENT: BLACK&WHITE
BAND_CONTENT: UNDEFINED
BAND_CONTENT: UNDEFINED
BITS_PER_PIXEL: 8
SAMPLES_AND_LINES: 5636 7663
HORIZONTAL_DATUM: NAD83
HORIZONTAL_COORDINATE_SYSTEM: UTM
COORDINATE_ZONE: 13
HORIZONTAL_UNITS: METERS
HORIZONTAL_RESOLUTION: 1.00000
SECONDARY_HORIZONTAL_DATUM: NAD27
XY_ORIGIN: 350136.00000 5123950.00000
SECONDARY_XY_ORIGIN: 350177.94700 5123731.83400
NATION: US
NATION: "SCIENCE
STATE: MT
NW_QUAD_CORNER_XY: 350653.20000 5123649.22700
NE_QUAD_CORNER_XY: 355470.76500 5123533.40200
SE_QUAD_CORNERY_XY: 355306.63300 5116589.11000
SW_QUAD_CORNER_XY: 350483.59400 5116704.94500
SECONDARY_NW_QUAD_XY: 350648.67000 5123431.14900
SECONDARY_NE_QUAD_XY: 355466.38100 5123315.32100
SECONDARY_SE_QUAD_XY: 355302.25000 5116371.06800
SECONDARY_SW_QUAD_XY: 350479.06500 5116486.90700
RMSE_XY: 1.20000
IMAGE_SOURCE: BLACK AND WHITE FILM
SOURCE_IMAGE_ID: NAPP 10764 050
SOURCE_IMAGE_DATE: 1997 09 20
SOURCE_IMAGE_ID: NAPP 9099 053
SOURCE_IMAGE_DATE: 1996 07 14
SOURCE_DEM_DATE: 1970 00 00
AGENCY: WESTERN MAPPING CENTER (WMC)
PRODUCER: UNDEFINED
PRODUCTION_SYSTEM: GIS/MAGIC
COMPRESSION: UNDEFINED
STANDARD_VERSION: 1996 12
METADATA_DATE: 1999 06 07
DATA_FILE_SIZE: 43194304
BYTE_COUNT: 5636
