FILENAME: O4610650.SWS.1010574.tif
QUADRANGLE_NAME: GRIFFIN COULEE NE
QUADRANT: SW
WEST_LONGITUDE: -106 52 30.00000
EAST_LONGITUDE: -106 48 45.00000
NORTH_LATITUDE: 46 11 15.00000
SOUTH_LATITUDE: 46 7 30.00000
PRODUCTION_DATE: 1999 5 26
RASTER_ORDER: LEFT_RIGHT/TOP_BOTTOM
BAND_ORGANIZATION: SINGLE FILE
BAND_CONTENT: BLACK&WHITE
BAND_CONTENT: UNDEFINED
BAND_CONTENT: UNDEFINED
BITS_PER_PIXEL: 8
SAMPLES_AND_LINES: 5636 7660
HORIZONTAL_DATUM: NAD83
HORIZONTAL_COORDINATE_SYSTEM: UTM
COORDINATE_ZONE: 13
HORIZONTAL_UNITS: METERS
HORIZONTAL_RESOLUTION: 1.00000
SECONDARY_HORIZONTAL_DATUM: NAD27
XY_ORIGIN: 354795.00000 5116890.00000
SECONDARY_XY_ORIGIN: 354836.83400 5116671.81700
NATION: US
NATION: "SCIENCE
STATE: MT
NW_QUAD_CORNER_XY: 355306.63300 5116589.11000
NE_QUAD_CORNER_XY: 360129.68000 5116477.07500
SE_QUAD_CORNERY_XY: 359971.19000 5109532.84100
SW_QUAD_CORNER_XY: 355142.67500 5109644.88600
SECONDARY_NW_QUAD_XY: 355302.25000 5116371.06800
SECONDARY_NE_QUAD_XY: 360125.44300 5116259.03000
SECONDARY_SE_QUAD_XY: 359966.95400 5109314.83600
SECONDARY_SW_QUAD_XY: 355138.29300 5109426.88400
RMSE_XY: 1.30000
IMAGE_SOURCE: BLACK AND WHITE FILM
SOURCE_IMAGE_ID: NAPP 10723 011
SOURCE_IMAGE_DATE: 1997 08 28
SOURCE_IMAGE_ID: NAPP 10723 013
SOURCE_IMAGE_DATE: 1997 08 28
SOURCE_DEM_DATE: 1970 00 00
AGENCY: WESTERN MAPPING CENTER (WMC)
PRODUCER: UNDEFINED
PRODUCTION_SYSTEM: GIS/MAGIC
COMPRESSION: UNDEFINED
STANDARD_VERSION: 1996 12
METADATA_DATE: 1999 06 07
DATA_FILE_SIZE: 43177396
BYTE_COUNT: 5636
