FILENAME: O4610650.NWS.1010572.tif
QUADRANGLE_NAME: GRIFFIN COULEE NE
QUADRANT: NW
WEST_LONGITUDE: -106 52 30.00000
EAST_LONGITUDE: -106 48 45.00000
NORTH_LATITUDE: 46 15 0.00000
SOUTH_LATITUDE: 46 11 15.00000
PRODUCTION_DATE: 1999 5 26
RASTER_ORDER: LEFT_RIGHT/TOP_BOTTOM
BAND_ORGANIZATION: SINGLE FILE
BAND_CONTENT: BLACK&WHITE
BAND_CONTENT: UNDEFINED
BAND_CONTENT: UNDEFINED
BITS_PER_PIXEL: 8
SAMPLES_AND_LINES: 5631 7659
HORIZONTAL_DATUM: NAD83
HORIZONTAL_COORDINATE_SYSTEM: UTM
COORDINATE_ZONE: 13
HORIZONTAL_UNITS: METERS
HORIZONTAL_RESOLUTION: 1.00000
SECONDARY_HORIZONTAL_DATUM: NAD27
XY_ORIGIN: 354959.00000 5123834.00000
SECONDARY_XY_ORIGIN: 355000.85700 5123615.76800
NATION: US
NATION: "SCIENCE
STATE: MT
NW_QUAD_CORNER_XY: 355470.76500 5123533.40200
NE_QUAD_CORNER_XY: 360288.33700 5123421.37700
SE_QUAD_CORNERY_XY: 360129.68000 5116477.07500
SW_QUAD_CORNER_XY: 355306.63300 5116589.11000
SECONDARY_NW_QUAD_XY: 355466.38100 5123315.32100
SECONDARY_NE_QUAD_XY: 360284.09900 5123203.29300
SECONDARY_SE_QUAD_XY: 360125.44300 5116259.03000
SECONDARY_SW_QUAD_XY: 355302.25000 5116371.06800
RMSE_XY: 1.20000
IMAGE_SOURCE: BLACK AND WHITE FILM
SOURCE_IMAGE_ID: NAPP 10723 013
SOURCE_IMAGE_DATE: 1997 08 28
SOURCE_IMAGE_ID: NAPP 10764 050
SOURCE_IMAGE_DATE: 1997 09 20
SOURCE_IMAGE_ID: NAPP 9109 006
SOURCE_IMAGE_DATE: 1996 08 11
SOURCE_DEM_DATE: 1970 00 00
AGENCY: WESTERN MAPPING CENTER (WMC)
PRODUCER: UNDEFINED
PRODUCTION_SYSTEM: GIS/MAGIC
COMPRESSION: UNDEFINED
STANDARD_VERSION: 1996 12
METADATA_DATE: 1999 06 07
DATA_FILE_SIZE: 43133460
BYTE_COUNT: 5631
