FILENAME: O4610652.NES.1010583.tif
QUADRANGLE_NAME: SMITH CREEK NE
QUADRANT: NE
WEST_LONGITUDE: -106 33 45.00000
EAST_LONGITUDE: -106 30 0.00000
NORTH_LATITUDE: 46 15 0.00000
SOUTH_LATITUDE: 46 11 15.00000
PRODUCTION_DATE: 1999 5 28
RASTER_ORDER: LEFT_RIGHT/TOP_BOTTOM
BAND_ORGANIZATION: SINGLE FILE
BAND_CONTENT: BLACK&WHITE
BAND_CONTENT: UNDEFINED
BAND_CONTENT: UNDEFINED
BITS_PER_PIXEL: 8
SAMPLES_AND_LINES: 5603 7641
HORIZONTAL_DATUM: NAD83
HORIZONTAL_COORDINATE_SYSTEM: UTM
COORDINATE_ZONE: 13
HORIZONTAL_UNITS: METERS
HORIZONTAL_RESOLUTION: 1.00000
SECONDARY_HORIZONTAL_DATUM: NAD27
XY_ORIGIN: 379075.00000 5123312.00000
SECONDARY_XY_ORIGIN: 379116.40800 5123093.43200
NATION: US
NATION: "SCIENCE
STATE: MT
NW_QUAD_CORNER_XY: 379558.69200 5123011.27300
NE_QUAD_CORNER_XY: 384376.29700 5122918.24500
SE_QUAD_CORNERY_XY: 384245.00800 5115973.89700
SW_QUAD_CORNER_XY: 379421.93000 5116066.93400
SECONDARY_NW_QUAD_XY: 379555.03900 5122793.17700
SECONDARY_NE_QUAD_XY: 384372.79000 5122700.14600
SECONDARY_SE_QUAD_XY: 384241.50200 5115755.83700
SECONDARY_SW_QUAD_XY: 379418.27800 5115848.87600
RMSE_XY: 0.80000
IMAGE_SOURCE: BLACK AND WHITE FILM
SOURCE_IMAGE_ID: NAPP 9110 049
SOURCE_IMAGE_DATE: 1996 08 11
SOURCE_IMAGE_ID: NAPP 9110 228
SOURCE_IMAGE_DATE: 1996 08 11
SOURCE_IMAGE_ID: NAPP 9115 145
SOURCE_IMAGE_DATE: 1996 09 10
SOURCE_DEM_DATE: 1970 00 00
AGENCY: WESTERN MAPPING CENTER (WMC)
PRODUCER: UNDEFINED
PRODUCTION_SYSTEM: GIS/MAGIC
COMPRESSION: UNDEFINED
STANDARD_VERSION: 1996 12
METADATA_DATE: 1999 06 07
DATA_FILE_SIZE: 42818126
BYTE_COUNT: 5603
