FILENAME: O4610653.SES.1010589.tif
QUADRANGLE_NAME: ROSEBUD BUTTES
QUADRANT: SE
WEST_LONGITUDE: -106 26 15.00000
EAST_LONGITUDE: -106 22 30.00000
NORTH_LATITUDE: 46 11 15.00000
SOUTH_LATITUDE: 46 7 30.00000
PRODUCTION_DATE: 1999 5 28
RASTER_ORDER: LEFT_RIGHT/TOP_BOTTOM
BAND_ORGANIZATION: SINGLE FILE
BAND_CONTENT: BLACK&WHITE
BAND_CONTENT: UNDEFINED
BAND_CONTENT: UNDEFINED
BITS_PER_PIXEL: 8
SAMPLES_AND_LINES: 5597 7634
HORIZONTAL_DATUM: NAD83
HORIZONTAL_COORDINATE_SYSTEM: UTM
COORDINATE_ZONE: 13
HORIZONTAL_UNITS: METERS
HORIZONTAL_RESOLUTION: 1.00000
SECONDARY_HORIZONTAL_DATUM: NAD27
XY_ORIGIN: 388596.00000 5116186.00000
SECONDARY_XY_ORIGIN: 388637.20100 5115967.37400
NATION: US
NATION: "SCIENCE
STATE: MT
NW_QUAD_CORNER_XY: 389068.09100 5115884.66000
NE_QUAD_CORNER_XY: 393891.18000 5115799.22100
SE_QUAD_CORNERY_XY: 393770.96200 5108854.93000
SW_QUAD_CORNER_XY: 388942.40700 5108940.37600
SECONDARY_NW_QUAD_XY: 389064.73100 5115666.59700
SECONDARY_NE_QUAD_XY: 393887.96600 5115581.15500
SECONDARY_SE_QUAD_XY: 393767.74900 5108636.90400
SECONDARY_SW_QUAD_XY: 388939.04800 5108722.35200
RMSE_XY: 1.50000
IMAGE_SOURCE: BLACK AND WHITE FILM
SOURCE_IMAGE_ID: NAPP 9106 245
SOURCE_IMAGE_DATE: 1996 08 07
SOURCE_IMAGE_ID: NAPP 9106 244
SOURCE_IMAGE_DATE: 1996 08 07
SOURCE_IMAGE_ID: NAPP 9097 063
SOURCE_IMAGE_DATE: 1996 07 12
SOURCE_DEM_DATE: 1970 00 00
AGENCY: WESTERN MAPPING CENTER (WMC)
PRODUCER: UNDEFINED
PRODUCTION_SYSTEM: GIS/MAGIC
COMPRESSION: UNDEFINED
STANDARD_VERSION: 1996 12
METADATA_DATE: 1999 06 07
DATA_FILE_SIZE: 42733095
BYTE_COUNT: 5597
