FILENAME: O4610661.NWS.1008887.tif
QUADRANGLE_NAME: MITCHELL COULEE
QUADRANT: NW
WEST_LONGITUDE: -106 30 0.00000
EAST_LONGITUDE: -106 26 15.00000
NORTH_LATITUDE: 46 7 30.00000
SOUTH_LATITUDE: 46 3 45.00000
PRODUCTION_DATE: 1999 5 25
RASTER_ORDER: LEFT_RIGHT/TOP_BOTTOM
BAND_ORGANIZATION: SINGLE FILE
BAND_CONTENT: BLACK&WHITE
BAND_CONTENT: UNDEFINED
BAND_CONTENT: UNDEFINED
BITS_PER_PIXEL: 8
SAMPLES_AND_LINES: 5607 7637
HORIZONTAL_DATUM: NAD83
HORIZONTAL_COORDINATE_SYSTEM: UTM
COORDINATE_ZONE: 13
HORIZONTAL_UNITS: METERS
HORIZONTAL_RESOLUTION: 1.00000
SECONDARY_HORIZONTAL_DATUM: NAD27
XY_ORIGIN: 383637.00000 5109331.00000
SECONDARY_XY_ORIGIN: 383678.22700 5109112.46100
NATION: US
NATION: "SCIENCE
STATE: MT
NW_QUAD_CORNER_XY: 384113.85700 5109029.62100
NE_QUAD_CORNER_XY: 388942.40700 5108940.37600
SE_QUAD_CORNERY_XY: 388816.85700 5101996.16300
SW_QUAD_CORNER_XY: 383982.84600 5102085.41500
SECONDARY_NW_QUAD_XY: 384110.35200 5108811.60000
SECONDARY_NE_QUAD_XY: 388939.04800 5108722.35200
SECONDARY_SE_QUAD_XY: 388813.49800 5101778.18000
SECONDARY_SW_QUAD_XY: 383979.34100 5101867.43500
RMSE_XY: 1.50000
IMAGE_SOURCE: BLACK AND WHITE FILM
SOURCE_IMAGE_ID: NAPP 9115 149
SOURCE_IMAGE_DATE: 1996 09 10
SOURCE_IMAGE_ID: NAPP 9106 243
SOURCE_IMAGE_DATE: 1996 08 07
SOURCE_DEM_DATE: 1970 00 00
AGENCY: WESTERN MAPPING CENTER (WMC)
PRODUCER: UNDEFINED
PRODUCTION_SYSTEM: GIS/MAGIC
COMPRESSION: UNDEFINED
STANDARD_VERSION: 1996 12
METADATA_DATE: 1999 06 02
DATA_FILE_SIZE: 42826266
BYTE_COUNT: 5607
