FILENAME: O4610661.NES.1008886.tif
QUADRANGLE_NAME: MITCHELL COULEE
QUADRANT: NE
WEST_LONGITUDE: -106 26 15.00000
EAST_LONGITUDE: -106 22 30.00000
NORTH_LATITUDE: 46 7 30.00000
SOUTH_LATITUDE: 46 3 45.00000
PRODUCTION_DATE: 1999 5 25
RASTER_ORDER: LEFT_RIGHT/TOP_BOTTOM
BAND_ORGANIZATION: SINGLE FILE
BAND_CONTENT: BLACK&WHITE
BAND_CONTENT: UNDEFINED
BAND_CONTENT: UNDEFINED
BITS_PER_PIXEL: 8
SAMPLES_AND_LINES: 5601 7633
HORIZONTAL_DATUM: NAD83
HORIZONTAL_COORDINATE_SYSTEM: UTM
COORDINATE_ZONE: 13
HORIZONTAL_UNITS: METERS
HORIZONTAL_RESOLUTION: 1.00000
SECONDARY_HORIZONTAL_DATUM: NAD27
XY_ORIGIN: 388471.00000 5109241.00000
SECONDARY_XY_ORIGIN: 388512.15500 5109022.42300
NATION: US
NATION: "SCIENCE
STATE: MT
NW_QUAD_CORNER_XY: 388942.40700 5108940.37600
NE_QUAD_CORNER_XY: 393770.96200 5108854.93000
SE_QUAD_CORNERY_XY: 393650.87300 5101910.71000
SW_QUAD_CORNER_XY: 388816.85700 5101996.16300
SECONDARY_NW_QUAD_XY: 388939.04800 5108722.35200
SECONDARY_NE_QUAD_XY: 393767.74900 5108636.90400
SECONDARY_SE_QUAD_XY: 393647.66000 5101692.72500
SECONDARY_SW_QUAD_XY: 388813.49800 5101778.18000
RMSE_XY: 1.30000
IMAGE_SOURCE: BLACK AND WHITE FILM
SOURCE_IMAGE_ID: NAPP 9106 243
SOURCE_IMAGE_DATE: 1996 08 07
SOURCE_IMAGE_ID: NAPP 9106 244
SOURCE_IMAGE_DATE: 1996 08 07
SOURCE_IMAGE_ID: NAPP 9097 065
SOURCE_IMAGE_DATE: 1996 07 12
SOURCE_DEM_DATE: 1970 00 00
AGENCY: WESTERN MAPPING CENTER (WMC)
PRODUCER: UNDEFINED
PRODUCTION_SYSTEM: GIS/MAGIC
COMPRESSION: UNDEFINED
STANDARD_VERSION: 1996 12
METADATA_DATE: 1999 06 02
DATA_FILE_SIZE: 42758034
BYTE_COUNT: 5601
