FILENAME: O4610662.NES.1008890.tif
QUADRANGLE_NAME: CRAIN PLACE
QUADRANT: NE
WEST_LONGITUDE: -106 18 45.00000
EAST_LONGITUDE: -106 15 0.00000
NORTH_LATITUDE: 46 7 30.00000
SOUTH_LATITUDE: 46 3 45.00000
PRODUCTION_DATE: 1999 5 25
RASTER_ORDER: LEFT_RIGHT/TOP_BOTTOM
BAND_ORGANIZATION: SINGLE FILE
BAND_CONTENT: BLACK&WHITE
BAND_CONTENT: UNDEFINED
BAND_CONTENT: UNDEFINED
BITS_PER_PIXEL: 8
SAMPLES_AND_LINES: 5591 7625
HORIZONTAL_DATUM: NAD83
HORIZONTAL_COORDINATE_SYSTEM: UTM
COORDINATE_ZONE: 13
HORIZONTAL_UNITS: METERS
HORIZONTAL_RESOLUTION: 1.00000
SECONDARY_HORIZONTAL_DATUM: NAD27
XY_ORIGIN: 398139.00000 5109074.00000
SECONDARY_XY_ORIGIN: 398180.01200 5108855.34500
NATION: US
NATION: "SCIENCE
STATE: MT
NW_QUAD_CORNER_XY: 398599.52200 5108773.28200
NE_QUAD_CORNER_XY: 403428.08700 5108695.43400
SE_QUAD_CORNERY_XY: 403318.91800 5101751.20200
SW_QUAD_CORNER_XY: 398484.89300 5101829.05600
SECONDARY_NW_QUAD_XY: 398596.45500 5108555.25400
SECONDARY_NE_QUAD_XY: 403425.16600 5108477.40400
SECONDARY_SE_QUAD_XY: 403315.99700 5101533.21200
SECONDARY_SW_QUAD_XY: 398481.82600 5101611.06900
RMSE_XY: 1.00000
IMAGE_SOURCE: BLACK AND WHITE FILM
SOURCE_IMAGE_ID: NAPP 10722 027
SOURCE_IMAGE_DATE: 1997 08 25
SOURCE_DEM_DATE: 1970 00 00
AGENCY: WESTERN MAPPING CENTER (WMC)
PRODUCER: UNDEFINED
PRODUCTION_SYSTEM: GIS/MAGIC
COMPRESSION: UNDEFINED
STANDARD_VERSION: 1996 12
METADATA_DATE: 1999 06 02
DATA_FILE_SIZE: 42636966
BYTE_COUNT: 5591
