FILENAME: O4610663.SWS.1008914.tif
QUADRANGLE_NAME: MILLER CREEK SW
QUADRANT: SW
WEST_LONGITUDE: -106 15 0.00000
EAST_LONGITUDE: -106 11 15.00000
NORTH_LATITUDE: 46 3 45.00000
SOUTH_LATITUDE: 46 0 0.00000
PRODUCTION_DATE: 1999 5 24
RASTER_ORDER: LEFT_RIGHT/TOP_BOTTOM
BAND_ORGANIZATION: SINGLE FILE
BAND_CONTENT: BLACK&WHITE
BAND_CONTENT: UNDEFINED
BAND_CONTENT: UNDEFINED
BITS_PER_PIXEL: 8
SAMPLES_AND_LINES: 5589 7622
HORIZONTAL_DATUM: NAD83
HORIZONTAL_COORDINATE_SYSTEM: UTM
COORDINATE_ZONE: 13
HORIZONTAL_UNITS: METERS
HORIZONTAL_RESOLUTION: 1.00000
SECONDARY_HORIZONTAL_DATUM: NAD27
XY_ORIGIN: 402865.00000 5102052.00000
SECONDARY_XY_ORIGIN: 402905.88300 5101833.34600
NATION: US
NATION: "SCIENCE
STATE: MT
NW_QUAD_CORNER_XY: 403318.91800 5101751.20200
NE_QUAD_CORNER_XY: 408152.94600 5101677.14600
SE_QUAD_CORNERY_XY: 408049.34700 5094732.98100
SW_QUAD_CORNER_XY: 403209.86400 5094807.04200
SECONDARY_NW_QUAD_XY: 403315.99700 5101533.21200
SECONDARY_NE_QUAD_XY: 408150.17200 5101459.15400
SECONDARY_SE_QUAD_XY: 408046.57300 5094515.03000
SECONDARY_SW_QUAD_XY: 403206.94400 5094589.09400
RMSE_XY: 1.20000
IMAGE_SOURCE: BLACK AND WHITE FILM
SOURCE_IMAGE_ID: NAPP 10722 032
SOURCE_IMAGE_DATE: 1997 08 25
SOURCE_IMAGE_ID: NAPP 10722 025
SOURCE_IMAGE_DATE: 1997 08 25
SOURCE_IMAGE_ID: NAPP 9106 011
SOURCE_IMAGE_DATE: 1996 08 07
SOURCE_DEM_DATE: 1968 00 00
AGENCY: WESTERN MAPPING CENTER (WMC)
PRODUCER: UNDEFINED
PRODUCTION_SYSTEM: GIS/MAGIC
COMPRESSION: UNDEFINED
STANDARD_VERSION: 1996 12
METADATA_DATE: 1999 06 02
DATA_FILE_SIZE: 42604947
BYTE_COUNT: 5589
