FILENAME: O4610663.NES.1008908.tif
QUADRANGLE_NAME: MILLER CREEK SW
QUADRANT: NE
WEST_LONGITUDE: -106 11 15.00000
EAST_LONGITUDE: -106 7 30.00000
NORTH_LATITUDE: 46 7 30.00000
SOUTH_LATITUDE: 46 3 45.00000
PRODUCTION_DATE: 1999 5 25
RASTER_ORDER: LEFT_RIGHT/TOP_BOTTOM
BAND_ORGANIZATION: SINGLE FILE
BAND_CONTENT: BLACK&WHITE
BAND_CONTENT: UNDEFINED
BAND_CONTENT: UNDEFINED
BITS_PER_PIXEL: 8
SAMPLES_AND_LINES: 5579 7619
HORIZONTAL_DATUM: NAD83
HORIZONTAL_COORDINATE_SYSTEM: UTM
COORDINATE_ZONE: 13
HORIZONTAL_UNITS: METERS
HORIZONTAL_RESOLUTION: 1.00000
SECONDARY_HORIZONTAL_DATUM: NAD27
XY_ORIGIN: 407808.00000 5108923.00000
SECONDARY_XY_ORIGIN: 407848.90100 5108704.28900
NATION: US
NATION: "SCIENCE
STATE: MT
NW_QUAD_CORNER_XY: 408256.65600 5108621.38400
NE_QUAD_CORNER_XY: 413085.22900 5108551.13300
SE_QUAD_CORNERY_XY: 412986.97900 5101606.88900
SW_QUAD_CORNER_XY: 408152.94600 5101677.14600
SECONDARY_NW_QUAD_XY: 408253.88000 5108403.35200
SECONDARY_NE_QUAD_XY: 413082.59900 5108333.09800
SECONDARY_SE_QUAD_XY: 412984.35100 5101388.89500
SECONDARY_SW_QUAD_XY: 408150.17200 5101459.15400
RMSE_XY: 0.90000
IMAGE_SOURCE: BLACK AND WHITE FILM
SOURCE_IMAGE_ID: NAPP 9106 014
SOURCE_IMAGE_DATE: 1996 08 07
SOURCE_DEM_DATE: 1968 00 00
AGENCY: WESTERN MAPPING CENTER (WMC)
PRODUCER: UNDEFINED
PRODUCTION_SYSTEM: GIS/MAGIC
COMPRESSION: UNDEFINED
STANDARD_VERSION: 1996 12
METADATA_DATE: 1999 06 02
DATA_FILE_SIZE: 42511980
BYTE_COUNT: 5579
