FILENAME: O4610501.SES.1163828.tif
QUADRANGLE_NAME: COMBS RANCH
QUADRANT: SE
WEST_LONGITUDE: -105 56 15.00000
EAST_LONGITUDE: -105 52 30.00000
NORTH_LATITUDE: 46 56 15.00000
SOUTH_LATITUDE: 46 52 30.00000
PRODUCTION_DATE: 2001 9 19
RASTER_ORDER: LEFT_RIGHT/TOP_BOTTOM
BAND_ORGANIZATION: SINGLE FILE
BAND_CONTENT: BLACK&WHITE
BAND_CONTENT: UNDEFINED
BAND_CONTENT: UNDEFINED
BITS_PER_PIXEL: 8
SAMPLES_AND_LINES: 5495 7612
HORIZONTAL_DATUM: NAD83
HORIZONTAL_COORDINATE_SYSTEM: UTM
COORDINATE_ZONE: 13
HORIZONTAL_UNITS: meters
HORIZONTAL_RESOLUTION: 1.00000
SECONDARY_HORIZONTAL_DATUM: NAD27
XY_ORIGIN: 428211.00000 5198952.00000
SECONDARY_XY_ORIGIN: 428252.43200 5198732.52400
NATION: US
STATE: MT
NW_QUAD_CORNER_XY: 428643.16200 5198645.28800
NE_QUAD_CORNER_XY: 433400.25900 5198590.31000
SE_QUAD_CORNERY_XY: 433322.80100 5191645.07900
SW_QUAD_CORNER_XY: 428560.17000 5191700.06500
SECONDARY_NW_QUAD_XY: 428640.96600 5198426.79600
SECONDARY_NE_QUAD_XY: 433398.21000 5198371.81600
SECONDARY_SE_QUAD_XY: 433320.75100 5191426.61400
SECONDARY_SW_QUAD_XY: 428557.97400 5191481.60200
RMSE_XY: 2.15000
IMAGE_SOURCE: BLACK AND WHITE FILM
SOURCE_IMAGE_ID: NAPP 9088-071
SOURCE_IMAGE_DATE: 1996 7 7
SOURCE_IMAGE_ID: NAPP 10766-165
SOURCE_IMAGE_DATE: 1998 7 10
SOURCE_DEM_DATE: 1987 0 0
AGENCY: WESTERN MAPPING CENTER (WMC)
PRODUCER: WOOLPERT LLP
PRODUCTION_SYSTEM: INTERGRAPH ISPM, ISIR
COMPRESSION: UNDEFINED
STANDARD_VERSION: 1996 12
METADATA_DATE: 2001 9 27
DATA_FILE_SIZE: 41833435
BYTE_COUNT: 5495
