FILENAME: O4610502.NES.1163838.tif
QUADRANGLE_NAME: LITTLE SHEEP MOUNTAIN
QUADRANT: NE
WEST_LONGITUDE: -105 48 45.00000
EAST_LONGITUDE: -105 45 0.00000
NORTH_LATITUDE: 47 0 0.00000
SOUTH_LATITUDE: 46 56 15.00000
PRODUCTION_DATE: 2001 9 18
RASTER_ORDER: LEFT_RIGHT/TOP_BOTTOM
BAND_ORGANIZATION: SINGLE FILE
BAND_CONTENT: BLACK&WHITE
BAND_CONTENT: UNDEFINED
BAND_CONTENT: UNDEFINED
BITS_PER_PIXEL: 8
SAMPLES_AND_LINES: 5477 7605
HORIZONTAL_DATUM: NAD83
HORIZONTAL_COORDINATE_SYSTEM: UTM
COORDINATE_ZONE: 13
HORIZONTAL_UNITS: meters
HORIZONTAL_RESOLUTION: 1.00000
SECONDARY_HORIZONTAL_DATUM: NAD27
XY_ORIGIN: 437809.00000 5205791.00000
SECONDARY_XY_ORIGIN: 437850.20700 5205571.43300
NATION: US
STATE: MT
NW_QUAD_CORNER_XY: 438229.36100 5205484.43800
NE_QUAD_CORNER_XY: 442980.92900 5205437.05100
SE_QUAD_CORNERY_XY: 442914.46900 5198491.73000
SW_QUAD_CORNER_XY: 438157.36200 5198539.12400
SECONDARY_NW_QUAD_XY: 438227.45700 5205265.91300
SECONDARY_NE_QUAD_XY: 442979.17200 5205218.52500
SECONDARY_SE_QUAD_XY: 442912.71200 5198273.23300
SECONDARY_SW_QUAD_XY: 438155.45800 5198320.62900
RMSE_XY: 1.86000
IMAGE_SOURCE: BLACK AND WHITE FILM
SOURCE_IMAGE_ID: NAPP 9086-145
SOURCE_IMAGE_DATE: 1996 6 13
SOURCE_IMAGE_ID: NAPP 10766-161
SOURCE_IMAGE_DATE: 1998 7 10
SOURCE_DEM_DATE: 1999 0 0
AGENCY: WESTERN MAPPING CENTER (WMC)
PRODUCER: WOOLPERT LLP
PRODUCTION_SYSTEM: INTERGRAPH ISPM, ISIR
COMPRESSION: UNDEFINED
STANDARD_VERSION: 1996 12
METADATA_DATE: 2001 9 26
DATA_FILE_SIZE: 41658062
BYTE_COUNT: 5477
