FILENAME: O4610504.SWS.1163865.tif
QUADRANGLE_NAME: MCCLOUD
QUADRANT: SW
WEST_LONGITUDE: -105 37 30.00000
EAST_LONGITUDE: -105 33 45.00000
NORTH_LATITUDE: 46 56 15.00000
SOUTH_LATITUDE: 46 52 30.00000
PRODUCTION_DATE: 2001 9 17
RASTER_ORDER: LEFT_RIGHT/TOP_BOTTOM
BAND_ORGANIZATION: SINGLE FILE
BAND_CONTENT: BLACK&WHITE
BAND_CONTENT: UNDEFINED
BAND_CONTENT: UNDEFINED
BITS_PER_PIXEL: 8
SAMPLES_AND_LINES: 5466 7593
HORIZONTAL_DATUM: NAD83
HORIZONTAL_COORDINATE_SYSTEM: UTM
COORDINATE_ZONE: 13
HORIZONTAL_UNITS: meters
HORIZONTAL_RESOLUTION: 1.00000
SECONDARY_HORIZONTAL_DATUM: NAD27
XY_ORIGIN: 452025.00000 5198715.00000
SECONDARY_XY_ORIGIN: 452065.92100 5198495.44700
NATION: US
STATE: MT
NW_QUAD_CORNER_XY: 452428.69700 5198408.31800
NE_QUAD_CORNER_XY: 457185.81600 5198372.30000
SE_QUAD_CORNERY_XY: 457136.02400 5191427.03700
SW_QUAD_CORNER_XY: 452373.37100 5191463.06100
SECONDARY_NW_QUAD_XY: 452427.23300 5198189.81800
SECONDARY_NE_QUAD_XY: 457184.49900 5198153.79900
SECONDARY_SE_QUAD_XY: 457134.70600 5191208.56600
SECONDARY_SW_QUAD_XY: 452371.90700 5191244.59100
RMSE_XY: 2.50000
IMAGE_SOURCE: BLACK AND WHITE FILM
SOURCE_IMAGE_ID: NAPP 9094-158
SOURCE_IMAGE_DATE: 1996 7 9
SOURCE_IMAGE_ID: NAPP 9094-020
SOURCE_IMAGE_DATE: 1996 7 9
SOURCE_DEM_DATE: 1999 0 0
AGENCY: WESTERN MAPPING CENTER (WMC)
PRODUCER: WOOLPERT LLP
PRODUCTION_SYSTEM: INTERGRAPH ISPM, ISIR
COMPRESSION: UNDEFINED
STANDARD_VERSION: 1996 12
METADATA_DATE: 2001 9 24
DATA_FILE_SIZE: 41508804
BYTE_COUNT: 5466
