FILENAME: O4610505.SWS.1163873.tif
QUADRANGLE_NAME: PAPPS RESERVOIR
QUADRANT: SW
WEST_LONGITUDE: -105 30 0.00000
EAST_LONGITUDE: -105 26 15.00000
NORTH_LATITUDE: 46 56 15.00000
SOUTH_LATITUDE: 46 52 30.00000
PRODUCTION_DATE: 2001 9 11
RASTER_ORDER: LEFT_RIGHT/TOP_BOTTOM
BAND_ORGANIZATION: SINGLE FILE
BAND_CONTENT: BLACK&WHITE
BAND_CONTENT: UNDEFINED
BAND_CONTENT: UNDEFINED
BITS_PER_PIXEL: 8
SAMPLES_AND_LINES: 5455 7586
HORIZONTAL_DATUM: NAD83
HORIZONTAL_COORDINATE_SYSTEM: UTM
COORDINATE_ZONE: 13
HORIZONTAL_UNITS: meters
HORIZONTAL_RESOLUTION: 1.00000
SECONDARY_HORIZONTAL_DATUM: NAD27
XY_ORIGIN: 461551.00000 5198647.00000
SECONDARY_XY_ORIGIN: 461591.77100 5198427.43400
NATION: US
STATE: MT
NW_QUAD_CORNER_XY: 461942.93900 5198340.07300
NE_QUAD_CORNER_XY: 466700.06500 5198311.63700
SE_QUAD_CORNERY_XY: 466661.33800 5191366.36700
SW_QUAD_CORNER_XY: 461898.67900 5191394.80600
SECONDARY_NW_QUAD_XY: 461941.76800 5198121.57100
SECONDARY_NE_QUAD_XY: 466699.04100 5198093.13500
SECONDARY_SE_QUAD_XY: 466660.31300 5191147.89300
SECONDARY_SW_QUAD_XY: 461897.50800 5191176.33400
RMSE_XY: 2.25000
IMAGE_SOURCE: BLACK AND WHITE FILM
SOURCE_IMAGE_ID: NAPP 9093-197
SOURCE_IMAGE_DATE: 1996 7 9
SOURCE_IMAGE_ID: NAPP 9094-020
SOURCE_IMAGE_DATE: 1996 7 9
SOURCE_DEM_DATE: 1999 0 0
AGENCY: WESTERN MAPPING CENTER (WMC)
PRODUCER: WOOLPERT LLP
PRODUCTION_SYSTEM: INTERGRAPH ISPM, ISIR
COMPRESSION: UNDEFINED
STANDARD_VERSION: 1996 12
METADATA_DATE: 2001 9 22
DATA_FILE_SIZE: 41387085
BYTE_COUNT: 5455
