FILENAME: O4610506.NES.1163680.tif
QUADRANGLE_NAME: DIAMOND G CREEK
QUADRANT: NE
WEST_LONGITUDE: -105 18 45.00000
EAST_LONGITUDE: -105 15 0.00000
NORTH_LATITUDE: 47 0 0.00000
SOUTH_LATITUDE: 46 56 15.00000
PRODUCTION_DATE: 2001 9 6
RASTER_ORDER: LEFT_RIGHT/TOP_BOTTOM
BAND_ORGANIZATION: SINGLE FILE
BAND_CONTENT: BLACK&WHITE
BAND_CONTENT: UNDEFINED
BAND_CONTENT: UNDEFINED
BITS_PER_PIXEL: 8
SAMPLES_AND_LINES: 5431 7574
HORIZONTAL_DATUM: NAD83
HORIZONTAL_COORDINATE_SYSTEM: UTM
COORDINATE_ZONE: 13
HORIZONTAL_UNITS: meters
HORIZONTAL_RESOLUTION: 1.00000
SECONDARY_HORIZONTAL_DATUM: NAD27
XY_ORIGIN: 475868.00000 5205518.00000
SECONDARY_XY_ORIGIN: 475908.56200 5205298.35700
NATION: US
STATE: MT
NW_QUAD_CORNER_XY: 476242.01600 5205211.49500
NE_QUAD_CORNER_XY: 480993.61000 5205194.43600
SE_QUAD_CORNERY_XY: 480971.45800 5198249.08000
SW_QUAD_CORNER_XY: 476214.32500 5198266.14100
SECONDARY_NW_QUAD_XY: 476241.28300 5204992.96100
SECONDARY_NE_QUAD_XY: 480993.02400 5204975.90200
SECONDARY_SE_QUAD_XY: 480970.87200 5198030.57600
SECONDARY_SW_QUAD_XY: 476213.59300 5198047.63700
RMSE_XY: 2.66000
IMAGE_SOURCE: BLACK AND WHITE FILM
SOURCE_IMAGE_ID: NAPP 9116-201
SOURCE_IMAGE_DATE: 1996 8 27
SOURCE_DEM_DATE: 1999 0 0
AGENCY: WESTERN MAPPING CENTER (WMC)
PRODUCER: WOOLPERT LLP
PRODUCTION_SYSTEM: INTERGRAPH ISPM, ISIR
COMPRESSION: UNDEFINED
STANDARD_VERSION: 1996 12
METADATA_DATE: 2001 9 6
DATA_FILE_SIZE: 41139825
BYTE_COUNT: 5431
