FILENAME: O4610509.SWS.1163833.tif
QUADRANGLE_NAME: TWIN BUTTES SCHOOL
QUADRANT: SW
WEST_LONGITUDE: -106 0 0.00000
EAST_LONGITUDE: -105 56 15.00000
NORTH_LATITUDE: 46 48 45.00000
SOUTH_LATITUDE: 46 45 0.00000
PRODUCTION_DATE: 2001 9 19
RASTER_ORDER: LEFT_RIGHT/TOP_BOTTOM
BAND_ORGANIZATION: SINGLE FILE
BAND_CONTENT: BLACK&WHITE
BAND_CONTENT: UNDEFINED
BAND_CONTENT: UNDEFINED
BITS_PER_PIXEL: 8
SAMPLES_AND_LINES: 5511 7616
HORIZONTAL_DATUM: NAD83
HORIZONTAL_COORDINATE_SYSTEM: UTM
COORDINATE_ZONE: 13
HORIZONTAL_UNITS: meters
HORIZONTAL_RESOLUTION: 1.00000
SECONDARY_HORIZONTAL_DATUM: NAD27
XY_ORIGIN: 423272.00000 5185120.00000
SECONDARY_XY_ORIGIN: 423313.40900 5184900.62000
NATION: US
STATE: MT
NW_QUAD_CORNER_XY: 423709.11000 5184813.70200
NE_QUAD_CORNER_XY: 428477.26300 5184754.91500
SE_QUAD_CORNERY_XY: 428394.44200 5177809.84000
SW_QUAD_CORNER_XY: 423620.76700 5177868.63500
SECONDARY_NW_QUAD_XY: 423706.76800 5184595.27100
SECONDARY_NE_QUAD_XY: 428475.06800 5184536.48300
SECONDARY_SE_QUAD_XY: 428392.24700 5177591.43900
SECONDARY_SW_QUAD_XY: 423618.42500 5177650.23500
RMSE_XY: 2.45000
IMAGE_SOURCE: BLACK AND WHITE FILM
SOURCE_IMAGE_ID: NAPP 9088-195
SOURCE_IMAGE_DATE: 1996 7 7
SOURCE_DEM_DATE: 1987 0 0
AGENCY: WESTERN MAPPING CENTER (WMC)
PRODUCER: WOOLPERT LLP
PRODUCTION_SYSTEM: INTERGRAPH ISPM, ISIR
COMPRESSION: UNDEFINED
STANDARD_VERSION: 1996 12
METADATA_DATE: 2001 9 19
DATA_FILE_SIZE: 41977287
BYTE_COUNT: 5511
