FILENAME: O4610510.SES.1163844.tif
QUADRANGLE_NAME: MOREHOUSE CREEK
QUADRANT: SE
WEST_LONGITUDE: -105 48 45.00000
EAST_LONGITUDE: -105 45 0.00000
NORTH_LATITUDE: 46 48 45.00000
SOUTH_LATITUDE: 46 45 0.00000
PRODUCTION_DATE: 2001 9 18
RASTER_ORDER: LEFT_RIGHT/TOP_BOTTOM
BAND_ORGANIZATION: SINGLE FILE
BAND_CONTENT: BLACK&WHITE
BAND_CONTENT: UNDEFINED
BAND_CONTENT: UNDEFINED
BITS_PER_PIXEL: 8
SAMPLES_AND_LINES: 5494 7604
HORIZONTAL_DATUM: NAD83
HORIZONTAL_COORDINATE_SYSTEM: UTM
COORDINATE_ZONE: 13
HORIZONTAL_UNITS: meters
HORIZONTAL_RESOLUTION: 1.00000
SECONDARY_HORIZONTAL_DATUM: NAD27
XY_ORIGIN: 437593.00000 5184955.00000
SECONDARY_XY_ORIGIN: 437634.16000 5184735.58600
NATION: US
STATE: MT
NW_QUAD_CORNER_XY: 438013.58600 5184648.72200
NE_QUAD_CORNER_XY: 442781.75400 5184601.31500
SE_QUAD_CORNERY_XY: 442715.49900 5177656.21900
SW_QUAD_CORNER_XY: 437941.80900 5177703.63300
SECONDARY_NW_QUAD_XY: 438011.68300 5184430.28600
SECONDARY_NE_QUAD_XY: 442779.99700 5184382.87800
SECONDARY_SE_QUAD_XY: 442713.74300 5177437.81300
SECONDARY_SW_QUAD_XY: 437939.90700 5177485.22800
RMSE_XY: 2.06000
IMAGE_SOURCE: BLACK AND WHITE FILM
SOURCE_IMAGE_ID: NAPP 9086-139
SOURCE_IMAGE_DATE: 1996 6 13
SOURCE_IMAGE_ID: NAPP 9086-140
SOURCE_IMAGE_DATE: 1996 6 13
SOURCE_DEM_DATE: 1999 0 0
AGENCY: WESTERN MAPPING CENTER (WMC)
PRODUCER: WOOLPERT LLP
PRODUCTION_SYSTEM: INTERGRAPH ISPM, ISIR
COMPRESSION: UNDEFINED
STANDARD_VERSION: 1996 12
METADATA_DATE: 2001 9 26
DATA_FILE_SIZE: 41781870
BYTE_COUNT: 5494
