FILENAME: O4610511.NWS.1163855.tif
QUADRANGLE_NAME: PHYSIC CREEK
QUADRANT: NW
WEST_LONGITUDE: -105 45 0.00000
EAST_LONGITUDE: -105 41 15.00000
NORTH_LATITUDE: 46 52 30.00000
SOUTH_LATITUDE: 46 48 45.00000
PRODUCTION_DATE: 2001 9 13
RASTER_ORDER: LEFT_RIGHT/TOP_BOTTOM
BAND_ORGANIZATION: SINGLE FILE
BAND_CONTENT: BLACK&WHITE
BAND_CONTENT: UNDEFINED
BAND_CONTENT: UNDEFINED
BITS_PER_PIXEL: 8
SAMPLES_AND_LINES: 5483 7601
HORIZONTAL_DATUM: NAD83
HORIZONTAL_COORDINATE_SYSTEM: UTM
COORDINATE_ZONE: 13
HORIZONTAL_UNITS: meters
HORIZONTAL_RESOLUTION: 1.00000
SECONDARY_HORIZONTAL_DATUM: NAD27
XY_ORIGIN: 442433.00000 5191853.00000
SECONDARY_XY_ORIGIN: 442474.07500 5191633.51700
NATION: US
STATE: MT
NW_QUAD_CORNER_XY: 442848.07700 5191546.48500
NE_QUAD_CORNER_XY: 447610.72200 5191502.87700
SE_QUAD_CORNERY_XY: 447549.92600 5184557.70000
SW_QUAD_CORNER_XY: 442781.75400 5184601.31500
SECONDARY_NW_QUAD_XY: 442846.32000 5191328.01800
SECONDARY_NE_QUAD_XY: 447609.11200 5191284.40800
SECONDARY_SE_QUAD_XY: 447548.31600 5184339.26200
SECONDARY_SW_QUAD_XY: 442779.99700 5184382.87800
RMSE_XY: 2.06000
IMAGE_SOURCE: BLACK AND WHITE FILM
SOURCE_IMAGE_ID: NAPP 10721-161
SOURCE_IMAGE_DATE: 1997 8 25
SOURCE_IMAGE_ID: NAPP 9086-142
SOURCE_IMAGE_DATE: 1996 6 13
SOURCE_DEM_DATE: 1999 0 0
AGENCY: WESTERN MAPPING CENTER (WMC)
PRODUCER: WOOLPERT LLP
PRODUCTION_SYSTEM: INTERGRAPH ISPM, ISIR
COMPRESSION: UNDEFINED
STANDARD_VERSION: 1996 12
METADATA_DATE: 2001 9 26
DATA_FILE_SIZE: 41681766
BYTE_COUNT: 5483
