FILENAME: O4610512.SWS.1163719.tif
QUADRANGLE_NAME: MCCLURE RESERVOIR
QUADRANT: SW
WEST_LONGITUDE: -105 37 30.00000
EAST_LONGITUDE: -105 33 45.00000
NORTH_LATITUDE: 46 48 45.00000
SOUTH_LATITUDE: 46 45 0.00000
PRODUCTION_DATE: 2001 9 10
RASTER_ORDER: LEFT_RIGHT/TOP_BOTTOM
BAND_ORGANIZATION: SINGLE FILE
BAND_CONTENT: BLACK&WHITE
BAND_CONTENT: UNDEFINED
BAND_CONTENT: UNDEFINED
BITS_PER_PIXEL: 8
SAMPLES_AND_LINES: 5477 7593
HORIZONTAL_DATUM: NAD83
HORIZONTAL_COORDINATE_SYSTEM: UTM
COORDINATE_ZONE: 13
HORIZONTAL_UNITS: meters
HORIZONTAL_RESOLUTION: 1.00000
SECONDARY_HORIZONTAL_DATUM: NAD27
XY_ORIGIN: 451915.00000 5184824.00000
SECONDARY_XY_ORIGIN: 451955.93700 5184604.57300
NATION: US
STATE: MT
NW_QUAD_CORNER_XY: 452318.10200 5184517.87900
NE_QUAD_CORNER_XY: 457086.28200 5184481.85100
SE_QUAD_CORNERY_XY: 457036.59200 5177536.73900
SW_QUAD_CORNER_XY: 452262.89100 5177572.77300
SECONDARY_NW_QUAD_XY: 452316.63900 5184299.43900
SECONDARY_NE_QUAD_XY: 457084.96500 5184263.41000
SECONDARY_SE_QUAD_XY: 457035.27500 5177318.33000
SECONDARY_SW_QUAD_XY: 452261.42800 5177354.36400
RMSE_XY: 2.45000
IMAGE_SOURCE: BLACK AND WHITE FILM
SOURCE_IMAGE_ID: NAPP 9094-162
SOURCE_IMAGE_DATE: 1996 7 9
SOURCE_IMAGE_ID: NAPP 9105-039
SOURCE_IMAGE_DATE: 1996 8 1
SOURCE_IMAGE_ID: NAPP 9094-161
SOURCE_IMAGE_DATE: 1996 7 9
SOURCE_IMAGE_ID: NAPP 9094-016
SOURCE_IMAGE_DATE: 1996 7 9
SOURCE_DEM_DATE: 1999 0 0
AGENCY: WESTERN MAPPING CENTER (WMC)
PRODUCER: WOOLPERT LLP
PRODUCTION_SYSTEM: INTERGRAPH ISPM, ISIR
COMPRESSION: UNDEFINED
STANDARD_VERSION: 1996 12
METADATA_DATE: 2001 9 20
DATA_FILE_SIZE: 41592338
BYTE_COUNT: 5477
