FILENAME: O4610512.NES.1163716.tif
QUADRANGLE_NAME: MCCLURE RESERVOIR
QUADRANT: NE
WEST_LONGITUDE: -105 33 45.00000
EAST_LONGITUDE: -105 30 0.00000
NORTH_LATITUDE: 46 52 30.00000
SOUTH_LATITUDE: 46 48 45.00000
PRODUCTION_DATE: 2001 9 10
RASTER_ORDER: LEFT_RIGHT/TOP_BOTTOM
BAND_ORGANIZATION: SINGLE FILE
BAND_CONTENT: BLACK&WHITE
BAND_CONTENT: UNDEFINED
BAND_CONTENT: UNDEFINED
BITS_PER_PIXEL: 8
SAMPLES_AND_LINES: 5465 7590
HORIZONTAL_DATUM: NAD83
HORIZONTAL_COORDINATE_SYSTEM: UTM
COORDINATE_ZONE: 13
HORIZONTAL_UNITS: meters
HORIZONTAL_RESOLUTION: 1.00000
SECONDARY_HORIZONTAL_DATUM: NAD27
XY_ORIGIN: 456739.00000 5191734.00000
SECONDARY_XY_ORIGIN: 456779.85700 5191514.50600
NATION: US
STATE: MT
NW_QUAD_CORNER_XY: 457136.02400 5191427.03700
NE_QUAD_CORNER_XY: 461898.67900 5191394.80600
SE_QUAD_CORNERY_XY: 461854.46500 5184449.61500
SW_QUAD_CORNER_XY: 457086.28200 5184481.85100
SECONDARY_NW_QUAD_XY: 457134.70600 5191208.56600
SECONDARY_NE_QUAD_XY: 461897.50800 5191176.33400
SECONDARY_SE_QUAD_XY: 461853.29400 5184231.17300
SECONDARY_SW_QUAD_XY: 457084.96500 5184263.41000
RMSE_XY: 2.50000
IMAGE_SOURCE: BLACK AND WHITE FILM
SOURCE_IMAGE_ID: NAPP 9094-019
SOURCE_IMAGE_DATE: 1996 7 9
SOURCE_IMAGE_ID: NAPP 9093-200
SOURCE_IMAGE_DATE: 1996 7 9
SOURCE_IMAGE_ID: NAPP 9093-199
SOURCE_IMAGE_DATE: 1996 7 9
SOURCE_IMAGE_ID: NAPP 9094-161
SOURCE_IMAGE_DATE: 1996 7 9
SOURCE_IMAGE_ID: NAPP 9094-020
SOURCE_IMAGE_DATE: 1996 7 9
SOURCE_DEM_DATE: 1999 0 0
AGENCY: WESTERN MAPPING CENTER (WMC)
PRODUCER: WOOLPERT LLP
PRODUCTION_SYSTEM: INTERGRAPH ISPM, ISIR
COMPRESSION: UNDEFINED
STANDARD_VERSION: 1996 12
METADATA_DATE: 2001 9 21
DATA_FILE_SIZE: 41484815
BYTE_COUNT: 5465
