FILENAME: O4610513.SES.1163726.tif
QUADRANGLE_NAME: CALYPSO
QUADRANT: SE
WEST_LONGITUDE: -105 26 15.00000
EAST_LONGITUDE: -105 22 30.00000
NORTH_LATITUDE: 46 48 45.00000
SOUTH_LATITUDE: 46 45 0.00000
PRODUCTION_DATE: 2001 9 7
RASTER_ORDER: LEFT_RIGHT/TOP_BOTTOM
BAND_ORGANIZATION: SINGLE FILE
BAND_CONTENT: BLACK&WHITE
BAND_CONTENT: UNDEFINED
BAND_CONTENT: UNDEFINED
BITS_PER_PIXEL: 8
SAMPLES_AND_LINES: 5459 7582
HORIZONTAL_DATUM: NAD83
HORIZONTAL_COORDINATE_SYSTEM: UTM
COORDINATE_ZONE: 13
HORIZONTAL_UNITS: meters
HORIZONTAL_RESOLUTION: 1.00000
SECONDARY_HORIZONTAL_DATUM: NAD27
XY_ORIGIN: 466237.00000 5184728.00000
SECONDARY_XY_ORIGIN: 466277.74000 5184508.58000
NATION: US
STATE: MT
NW_QUAD_CORNER_XY: 466622.65100 5184421.17100
NE_QUAD_CORNER_XY: 471390.83900 5184396.52100
SE_QUAD_CORNERY_XY: 471357.71300 5177451.39800
SW_QUAD_CORNER_XY: 466584.00400 5177476.05200
SECONDARY_NW_QUAD_XY: 466621.62600 5184202.72900
SECONDARY_NE_QUAD_XY: 471389.96100 5184178.07700
SECONDARY_SE_QUAD_XY: 471356.83500 5177232.98600
SECONDARY_SW_QUAD_XY: 466582.97900 5177257.64100
RMSE_XY: 2.20000
IMAGE_SOURCE: BLACK AND WHITE FILM
SOURCE_IMAGE_ID: NAPP 9093-056
SOURCE_IMAGE_DATE: 1996 7 9
SOURCE_IMAGE_ID: NAPP 9093-057
SOURCE_IMAGE_DATE: 1996 7 9
SOURCE_DEM_DATE: 1999 0 0
AGENCY: WESTERN MAPPING CENTER (WMC)
PRODUCER: WOOLPERT LLP
PRODUCTION_SYSTEM: INTERGRAPH ISPM, ISIR
COMPRESSION: UNDEFINED
STANDARD_VERSION: 1996 12
METADATA_DATE: 2001 9 19
DATA_FILE_SIZE: 41395597
BYTE_COUNT: 5459
