FILENAME: O4610513.NES.1163724.tif
QUADRANGLE_NAME: CALYPSO
QUADRANT: NE
WEST_LONGITUDE: -105 26 15.00000
EAST_LONGITUDE: -105 22 30.00000
NORTH_LATITUDE: 46 52 30.00000
SOUTH_LATITUDE: 46 48 45.00000
PRODUCTION_DATE: 2001 9 7
RASTER_ORDER: LEFT_RIGHT/TOP_BOTTOM
BAND_ORGANIZATION: SINGLE FILE
BAND_CONTENT: BLACK&WHITE
BAND_CONTENT: UNDEFINED
BAND_CONTENT: UNDEFINED
BITS_PER_PIXEL: 8
SAMPLES_AND_LINES: 5454 7582
HORIZONTAL_DATUM: NAD83
HORIZONTAL_COORDINATE_SYSTEM: UTM
COORDINATE_ZONE: 13
HORIZONTAL_UNITS: meters
HORIZONTAL_RESOLUTION: 1.00000
SECONDARY_HORIZONTAL_DATUM: NAD27
XY_ORIGIN: 466275.00000 5191673.00000
SECONDARY_XY_ORIGIN: 466315.72400 5191453.50700
NATION: US
STATE: MT
NW_QUAD_CORNER_XY: 466661.33800 5191366.36700
NE_QUAD_CORNER_XY: 471423.99900 5191341.71900
SE_QUAD_CORNERY_XY: 471390.83900 5184396.52100
SW_QUAD_CORNER_XY: 466622.65100 5184421.17100
SECONDARY_NW_QUAD_XY: 466660.31300 5191147.89300
SECONDARY_NE_QUAD_XY: 471423.12100 5191123.24500
SECONDARY_SE_QUAD_XY: 471389.96100 5184178.07700
SECONDARY_SW_QUAD_XY: 466621.62600 5184202.72900
RMSE_XY: 2.10000
IMAGE_SOURCE: BLACK AND WHITE FILM
SOURCE_IMAGE_ID: NAPP 9093-058
SOURCE_IMAGE_DATE: 1996 7 9
SOURCE_IMAGE_ID: NAPP 9093-057
SOURCE_IMAGE_DATE: 1996 7 9
SOURCE_DEM_DATE: 1999 0 0
AGENCY: WESTERN MAPPING CENTER (WMC)
PRODUCER: WOOLPERT LLP
PRODUCTION_SYSTEM: INTERGRAPH ISPM, ISIR
COMPRESSION: UNDEFINED
STANDARD_VERSION: 1996 12
METADATA_DATE: 2001 9 19
DATA_FILE_SIZE: 41357682
BYTE_COUNT: 5454
