FILENAME: O4610520.SES.1163722.tif
QUADRANGLE_NAME: KINSEY NE
QUADRANT: SE
WEST_LONGITUDE: -105 33 45.00000
EAST_LONGITUDE: -105 30 0.00000
NORTH_LATITUDE: 46 41 15.00000
SOUTH_LATITUDE: 46 37 30.00000
PRODUCTION_DATE: 2001 9 10
RASTER_ORDER: LEFT_RIGHT/TOP_BOTTOM
BAND_ORGANIZATION: SINGLE FILE
BAND_CONTENT: BLACK&WHITE
BAND_CONTENT: UNDEFINED
BAND_CONTENT: UNDEFINED
BITS_PER_PIXEL: 8
SAMPLES_AND_LINES: 5482 7589
HORIZONTAL_DATUM: NAD83
HORIZONTAL_COORDINATE_SYSTEM: UTM
COORDINATE_ZONE: 13
HORIZONTAL_UNITS: meters
HORIZONTAL_RESOLUTION: 1.00000
SECONDARY_HORIZONTAL_DATUM: NAD27
XY_ORIGIN: 456590.00000 5170898.00000
SECONDARY_XY_ORIGIN: 456630.86000 5170678.72300
NATION: US
STATE: MT
NW_QUAD_CORNER_XY: 456986.95400 5170591.70300
NE_QUAD_CORNER_XY: 461766.17400 5170559.45900
SE_QUAD_CORNERY_XY: 461722.09700 5163614.49500
SW_QUAD_CORNER_XY: 456937.36700 5163646.74300
SECONDARY_NW_QUAD_XY: 456985.63700 5170373.32600
SECONDARY_NE_QUAD_XY: 461765.00300 5170341.08100
SECONDARY_SE_QUAD_XY: 461720.92700 5163396.15000
SECONDARY_SW_QUAD_XY: 456936.05000 5163428.39900
RMSE_XY: 2.20000
IMAGE_SOURCE: BLACK AND WHITE FILM
SOURCE_IMAGE_ID: NAPP 9094-013
SOURCE_IMAGE_DATE: 1996 7 9
SOURCE_IMAGE_ID: NAPP 9105-041
SOURCE_IMAGE_DATE: 1996 8 1
SOURCE_DEM_DATE: 1999 0 0
AGENCY: WESTERN MAPPING CENTER (WMC)
PRODUCER: WOOLPERT LLP
PRODUCTION_SYSTEM: INTERGRAPH ISPM, ISIR
COMPRESSION: UNDEFINED
STANDARD_VERSION: 1996 12
METADATA_DATE: 2001 9 20
DATA_FILE_SIZE: 41608380
BYTE_COUNT: 5482
