FILENAME: O4610521.SWS.1163731.tif
QUADRANGLE_NAME: ZERO
QUADRANT: SW
WEST_LONGITUDE: -105 30 0.00000
EAST_LONGITUDE: -105 26 15.00000
NORTH_LATITUDE: 46 41 15.00000
SOUTH_LATITUDE: 46 37 30.00000
PRODUCTION_DATE: 2001 9 7
RASTER_ORDER: LEFT_RIGHT/TOP_BOTTOM
BAND_ORGANIZATION: SINGLE FILE
BAND_CONTENT: BLACK&WHITE
BAND_CONTENT: UNDEFINED
BAND_CONTENT: UNDEFINED
BITS_PER_PIXEL: 8
SAMPLES_AND_LINES: 5476 7585
HORIZONTAL_DATUM: NAD83
HORIZONTAL_COORDINATE_SYSTEM: UTM
COORDINATE_ZONE: 13
HORIZONTAL_UNITS: meters
HORIZONTAL_RESOLUTION: 1.00000
SECONDARY_HORIZONTAL_DATUM: NAD27
XY_ORIGIN: 461375.00000 5170866.00000
SECONDARY_XY_ORIGIN: 461415.79800 5170646.72900
NATION: US
STATE: MT
NW_QUAD_CORNER_XY: 461766.17400 5170559.45900
NE_QUAD_CORNER_XY: 466545.39600 5170531.00800
SE_QUAD_CORNERY_XY: 466506.82900 5163586.04100
SW_QUAD_CORNER_XY: 461722.09700 5163614.49500
SECONDARY_NW_QUAD_XY: 461765.00300 5170341.08100
SECONDARY_NE_QUAD_XY: 466544.37200 5170312.62900
SECONDARY_SE_QUAD_XY: 466505.80500 5163367.69500
SECONDARY_SW_QUAD_XY: 461720.92700 5163396.15000
RMSE_XY: 2.55000
IMAGE_SOURCE: BLACK AND WHITE FILM
SOURCE_IMAGE_ID: NAPP 9093-205
SOURCE_IMAGE_DATE: 1996 7 9
SOURCE_DEM_DATE: 1999 0 0
AGENCY: WESTERN MAPPING CENTER (WMC)
PRODUCER: WOOLPERT LLP
PRODUCTION_SYSTEM: INTERGRAPH ISPM, ISIR
COMPRESSION: UNDEFINED
STANDARD_VERSION: 1996 12
METADATA_DATE: 2001 9 7
DATA_FILE_SIZE: 41540936
BYTE_COUNT: 5476
