FILENAME: O4610522.SES.1163742.tif
QUADRANGLE_NAME: ZERO NE
QUADRANT: SE
WEST_LONGITUDE: -105 18 45.00000
EAST_LONGITUDE: -105 15 0.00000
NORTH_LATITUDE: 46 41 15.00000
SOUTH_LATITUDE: 46 37 30.00000
PRODUCTION_DATE: 2001 9 7
RASTER_ORDER: LEFT_RIGHT/TOP_BOTTOM
BAND_ORGANIZATION: SINGLE FILE
BAND_CONTENT: BLACK&WHITE
BAND_CONTENT: UNDEFINED
BAND_CONTENT: UNDEFINED
BITS_PER_PIXEL: 8
SAMPLES_AND_LINES: 5460 7574
HORIZONTAL_DATUM: NAD83
HORIZONTAL_COORDINATE_SYSTEM: UTM
COORDINATE_ZONE: 13
HORIZONTAL_UNITS: meters
HORIZONTAL_RESOLUTION: 1.00000
SECONDARY_HORIZONTAL_DATUM: NAD27
XY_ORIGIN: 475729.00000 5170792.00000
SECONDARY_XY_ORIGIN: 475769.65000 5170572.77000
NATION: US
STATE: MT
NW_QUAD_CORNER_XY: 476103.84800 5170485.48800
NE_QUAD_CORNER_XY: 480883.07600 5170468.41700
SE_QUAD_CORNERY_XY: 480861.03800 5163523.44200
SW_QUAD_CORNER_XY: 476076.30000 5163540.51400
SECONDARY_NW_QUAD_XY: 476103.11600 5170267.10700
SECONDARY_NE_QUAD_XY: 480882.49100 5170250.03700
SECONDARY_SE_QUAD_XY: 480860.45300 5163305.09400
SECONDARY_SW_QUAD_XY: 476075.56900 5163322.16700
RMSE_XY: 2.17000
IMAGE_SOURCE: BLACK AND WHITE FILM
SOURCE_IMAGE_ID: NAPP 9116-211
SOURCE_IMAGE_DATE: 1996 8 27
SOURCE_IMAGE_ID: NAPP 9116-212
SOURCE_IMAGE_DATE: 1996 8 27
SOURCE_IMAGE_ID: NAPP 9116-058
SOURCE_IMAGE_DATE: 1996 8 27
SOURCE_DEM_DATE: 1999 0 0
AGENCY: WESTERN MAPPING CENTER (WMC)
PRODUCER: WOOLPERT LLP
PRODUCTION_SYSTEM: INTERGRAPH ISPM, ISIR
COMPRESSION: UNDEFINED
STANDARD_VERSION: 1996 12
METADATA_DATE: 2001 9 18
DATA_FILE_SIZE: 41359500
BYTE_COUNT: 5460
