FILENAME: O4610523.SWS.1163755.tif
QUADRANGLE_NAME: FLAT TOP BUTTE
QUADRANT: SW
WEST_LONGITUDE: -105 15 0.00000
EAST_LONGITUDE: -105 11 15.00000
NORTH_LATITUDE: 46 41 15.00000
SOUTH_LATITUDE: 46 37 30.00000
PRODUCTION_DATE: 2001 9 4
RASTER_ORDER: LEFT_RIGHT/TOP_BOTTOM
BAND_ORGANIZATION: SINGLE FILE
BAND_CONTENT: BLACK&WHITE
BAND_CONTENT: UNDEFINED
BAND_CONTENT: UNDEFINED
BITS_PER_PIXEL: 8
SAMPLES_AND_LINES: 5454 7570
HORIZONTAL_DATUM: NAD83
HORIZONTAL_COORDINATE_SYSTEM: UTM
COORDINATE_ZONE: 13
HORIZONTAL_UNITS: meters
HORIZONTAL_RESOLUTION: 1.00000
SECONDARY_HORIZONTAL_DATUM: NAD27
XY_ORIGIN: 480514.00000 5170775.00000
SECONDARY_XY_ORIGIN: 480554.60100 5170555.78300
NATION: US
STATE: MT
NW_QUAD_CORNER_XY: 480883.07600 5170468.41700
NE_QUAD_CORNER_XY: 485662.30600 5170455.14100
SE_QUAD_CORNERY_XY: 485645.77800 5163510.16400
SW_QUAD_CORNER_XY: 480861.03800 5163523.44200
SECONDARY_NW_QUAD_XY: 480882.49100 5170250.03700
SECONDARY_NE_QUAD_XY: 485661.86700 5170236.75900
SECONDARY_SE_QUAD_XY: 485645.33900 5163291.81500
SECONDARY_SW_QUAD_XY: 480860.45300 5163305.09400
RMSE_XY: 2.04000
IMAGE_SOURCE: BLACK AND WHITE FILM
SOURCE_IMAGE_ID: NAPP 9119-234
SOURCE_IMAGE_DATE: 1996 8 26
SOURCE_IMAGE_ID: NAPP 9116-211
SOURCE_IMAGE_DATE: 1996 8 27
SOURCE_IMAGE_ID: NAPP 9116-212
SOURCE_IMAGE_DATE: 1996 8 27
SOURCE_IMAGE_ID: NAPP 9119-144
SOURCE_IMAGE_DATE: 1996 8 26
SOURCE_DEM_DATE: 1999 0 0
AGENCY: WESTERN MAPPING CENTER (WMC)
PRODUCER: WOOLPERT LLP
PRODUCTION_SYSTEM: INTERGRAPH ISPM, ISIR
COMPRESSION: UNDEFINED
STANDARD_VERSION: 1996 12
METADATA_DATE: 2001 9 13
DATA_FILE_SIZE: 41292234
BYTE_COUNT: 5454
