FILENAME: O4610524.NWS.1163620.tif
QUADRANGLE_NAME: FLAT TOP BUTTE NE
QUADRANT: NW
WEST_LONGITUDE: -105 7 30.00000
EAST_LONGITUDE: -105 3 45.00000
NORTH_LATITUDE: 46 45 0.00000
SOUTH_LATITUDE: 46 41 15.00000
PRODUCTION_DATE: 2001 9 24
RASTER_ORDER: LEFT_RIGHT/TOP_BOTTOM
BAND_ORGANIZATION: SINGLE FILE
BAND_CONTENT: BLACK&WHITE
BAND_CONTENT: UNDEFINED
BAND_CONTENT: UNDEFINED
BITS_PER_PIXEL: 8
SAMPLES_AND_LINES: 5437 7563
HORIZONTAL_DATUM: NAD83
HORIZONTAL_COORDINATE_SYSTEM: UTM
COORDINATE_ZONE: 13
HORIZONTAL_UNITS: meters
HORIZONTAL_RESOLUTION: 1.00000
SECONDARY_HORIZONTAL_DATUM: NAD27
XY_ORIGIN: 490095.00000 5177697.00000
SECONDARY_XY_ORIGIN: 490135.43600 5177477.72600
NATION: US
STATE: MT
NW_QUAD_CORNER_XY: 490452.56700 5177390.71200
NE_QUAD_CORNER_XY: 495226.28400 5177385.02300
SE_QUAD_CORNERY_XY: 495220.76800 5170439.96700
SW_QUAD_CORNER_XY: 490441.53700 5170445.65700
SECONDARY_NW_QUAD_XY: 490452.27500 5177172.29800
SECONDARY_NE_QUAD_XY: 495226.13700 5177166.60900
SECONDARY_SE_QUAD_XY: 495220.62200 5170221.58600
SECONDARY_SW_QUAD_XY: 490441.24400 5170227.27600
RMSE_XY: 1.32000
IMAGE_SOURCE: BLACK AND WHITE FILM
SOURCE_IMAGE_ID: NAPP 9119-122
SOURCE_IMAGE_DATE: 1996 8 26
SOURCE_IMAGE_ID: NAPP 9119-123
SOURCE_IMAGE_DATE: 1996 8 26
SOURCE_DEM_DATE: 1999 0 0
AGENCY: WESTERN MAPPING CENTER (WMC)
PRODUCER: WOOLPERT LLP
PRODUCTION_SYSTEM: INTERGRAPH ISPM, ISIR
COMPRESSION: UNDEFINED
STANDARD_VERSION: 1996 12
METADATA_DATE: 2001 10 9
DATA_FILE_SIZE: 41125468
BYTE_COUNT: 5437
