FILENAME: O4610529.SWS.1163735.tif
QUADRANGLE_NAME: CORRAL BUTTE
QUADRANT: SW
WEST_LONGITUDE: -105 30 0.00000
EAST_LONGITUDE: -105 26 15.00000
NORTH_LATITUDE: 46 33 45.00000
SOUTH_LATITUDE: 46 30 0.00000
PRODUCTION_DATE: 2001 9 7
RASTER_ORDER: LEFT_RIGHT/TOP_BOTTOM
BAND_ORGANIZATION: SINGLE FILE
BAND_CONTENT: BLACK&WHITE
BAND_CONTENT: UNDEFINED
BAND_CONTENT: UNDEFINED
BITS_PER_PIXEL: 8
SAMPLES_AND_LINES: 5487 7585
HORIZONTAL_DATUM: NAD83
HORIZONTAL_COORDINATE_SYSTEM: UTM
COORDINATE_ZONE: 13
HORIZONTAL_UNITS: meters
HORIZONTAL_RESOLUTION: 1.00000
SECONDARY_HORIZONTAL_DATUM: NAD27
XY_ORIGIN: 461287.00000 5156976.00000
SECONDARY_XY_ORIGIN: 461327.76500 5156756.90900
NATION: US
STATE: MT
NW_QUAD_CORNER_XY: 461678.06600 5156669.60600
NE_QUAD_CORNER_XY: 466468.30200 5156641.14800
SE_QUAD_CORNERY_XY: 466429.81600 5149696.33200
SW_QUAD_CORNER_XY: 461634.08100 5149724.79300
SECONDARY_NW_QUAD_XY: 461676.89600 5156451.29500
SECONDARY_NE_QUAD_XY: 466467.27800 5156422.83600
SECONDARY_SE_QUAD_XY: 466428.79200 5149478.05500
SECONDARY_SW_QUAD_XY: 461632.91100 5149506.51600
RMSE_XY: 2.77000
IMAGE_SOURCE: BLACK AND WHITE FILM
SOURCE_IMAGE_ID: NAPP 9093-209
SOURCE_IMAGE_DATE: 1996 7 9
SOURCE_IMAGE_ID: NAPP 9093-208
SOURCE_IMAGE_DATE: 1996 7 9
SOURCE_IMAGE_ID: NAPP 9093-049
SOURCE_IMAGE_DATE: 1996 7 9
SOURCE_DEM_DATE: 1999 0 0
AGENCY: WESTERN MAPPING CENTER (WMC)
PRODUCER: WOOLPERT LLP
PRODUCTION_SYSTEM: INTERGRAPH ISPM, ISIR
COMPRESSION: UNDEFINED
STANDARD_VERSION: 1996 12
METADATA_DATE: 2001 9 19
DATA_FILE_SIZE: 41624382
BYTE_COUNT: 5487
