FILENAME: O4610529.SES.1163734.tif
QUADRANGLE_NAME: CORRAL BUTTE
QUADRANT: SE
WEST_LONGITUDE: -105 26 15.00000
EAST_LONGITUDE: -105 22 30.00000
NORTH_LATITUDE: 46 33 45.00000
SOUTH_LATITUDE: 46 30 0.00000
PRODUCTION_DATE: 2001 9 7
RASTER_ORDER: LEFT_RIGHT/TOP_BOTTOM
BAND_ORGANIZATION: SINGLE FILE
BAND_CONTENT: BLACK&WHITE
BAND_CONTENT: UNDEFINED
BAND_CONTENT: UNDEFINED
BITS_PER_PIXEL: 8
SAMPLES_AND_LINES: 5481 7581
HORIZONTAL_DATUM: NAD83
HORIZONTAL_COORDINATE_SYSTEM: UTM
COORDINATE_ZONE: 13
HORIZONTAL_UNITS: meters
HORIZONTAL_RESOLUTION: 1.00000
SECONDARY_HORIZONTAL_DATUM: NAD27
XY_ORIGIN: 466083.00000 5156947.00000
SECONDARY_XY_ORIGIN: 466123.72900 5156727.92300
NATION: US
STATE: MT
NW_QUAD_CORNER_XY: 466468.30200 5156641.14800
NE_QUAD_CORNER_XY: 471258.54100 5156616.48500
SE_QUAD_CORNERY_XY: 471225.55200 5149671.66600
SW_QUAD_CORNER_XY: 466429.81600 5149696.33200
SECONDARY_NW_QUAD_XY: 466467.27800 5156422.83600
SECONDARY_NE_QUAD_XY: 471257.66300 5156398.17300
SECONDARY_SE_QUAD_XY: 471224.67500 5149453.38800
SECONDARY_SW_QUAD_XY: 466428.79200 5149478.05500
RMSE_XY: 2.80000
IMAGE_SOURCE: BLACK AND WHITE FILM
SOURCE_IMAGE_ID: NAPP 9093-048
SOURCE_IMAGE_DATE: 1996 7 9
SOURCE_IMAGE_ID: NAPP 9093-049
SOURCE_IMAGE_DATE: 1996 7 9
SOURCE_IMAGE_ID: NAPP 9093-209
SOURCE_IMAGE_DATE: 1996 7 9
SOURCE_DEM_DATE: 1999 0 0
AGENCY: WESTERN MAPPING CENTER (WMC)
PRODUCER: WOOLPERT LLP
PRODUCTION_SYSTEM: INTERGRAPH ISPM, ISIR
COMPRESSION: UNDEFINED
STANDARD_VERSION: 1996 12
METADATA_DATE: 2001 9 19
DATA_FILE_SIZE: 41556942
BYTE_COUNT: 5481
