FILENAME: O4610530.NES.1163744.tif
QUADRANGLE_NAME: SPRING DRAW
QUADRANT: NE
WEST_LONGITUDE: -105 18 45.00000
EAST_LONGITUDE: -105 15 0.00000
NORTH_LATITUDE: 46 37 30.00000
SOUTH_LATITUDE: 46 33 45.00000
PRODUCTION_DATE: 2001 9 7
RASTER_ORDER: LEFT_RIGHT/TOP_BOTTOM
BAND_ORGANIZATION: SINGLE FILE
BAND_CONTENT: BLACK&WHITE
BAND_CONTENT: UNDEFINED
BAND_CONTENT: UNDEFINED
BITS_PER_PIXEL: 8
SAMPLES_AND_LINES: 5465 7574
HORIZONTAL_DATUM: NAD83
HORIZONTAL_COORDINATE_SYSTEM: UTM
COORDINATE_ZONE: 13
HORIZONTAL_UNITS: meters
HORIZONTAL_RESOLUTION: 1.00000
SECONDARY_HORIZONTAL_DATUM: NAD27
XY_ORIGIN: 475702.00000 5163847.00000
SECONDARY_XY_ORIGIN: 475742.65500 5163627.86000
NATION: US
STATE: MT
NW_QUAD_CORNER_XY: 476076.30000 5163540.51400
NE_QUAD_CORNER_XY: 480861.03800 5163523.44200
SE_QUAD_CORNERY_XY: 480839.02300 5156578.54200
SW_QUAD_CORNER_XY: 476048.78100 5156595.61700
SECONDARY_NW_QUAD_XY: 476075.56900 5163322.16700
SECONDARY_NE_QUAD_XY: 480860.45300 5163305.09400
SECONDARY_SE_QUAD_XY: 480838.43800 5156360.22900
SECONDARY_SW_QUAD_XY: 476048.05000 5156377.30300
RMSE_XY: 1.72000
IMAGE_SOURCE: BLACK AND WHITE FILM
SOURCE_IMAGE_ID: NAPP 9116-213
SOURCE_IMAGE_DATE: 1996 8 27
SOURCE_IMAGE_ID: NAPP 9116-214
SOURCE_IMAGE_DATE: 1996 8 27
SOURCE_IMAGE_ID: NAPP 9116-212
SOURCE_IMAGE_DATE: 1996 8 27
SOURCE_IMAGE_ID: NAPP 9116-058
SOURCE_IMAGE_DATE: 1996 8 27
SOURCE_IMAGE_ID: NAPP 9116-056
SOURCE_IMAGE_DATE: 1996 8 27
SOURCE_DEM_DATE: 1999 0 0
AGENCY: WESTERN MAPPING CENTER (WMC)
PRODUCER: WOOLPERT LLP
PRODUCTION_SYSTEM: INTERGRAPH ISPM, ISIR
COMPRESSION: UNDEFINED
STANDARD_VERSION: 1996 12
METADATA_DATE: 2001 9 18
DATA_FILE_SIZE: 41397375
BYTE_COUNT: 5465
