FILENAME: O4610532.SES.1163630.tif
QUADRANGLE_NAME: LITTLE WHITNEY CREEK
QUADRANT: SE
WEST_LONGITUDE: -105 3 45.00000
EAST_LONGITUDE: -105 0 0.00000
NORTH_LATITUDE: 46 33 45.00000
SOUTH_LATITUDE: 46 30 0.00000
PRODUCTION_DATE: 2001 9 24
RASTER_ORDER: LEFT_RIGHT/TOP_BOTTOM
BAND_ORGANIZATION: SINGLE FILE
BAND_CONTENT: BLACK&WHITE
BAND_CONTENT: UNDEFINED
BAND_CONTENT: UNDEFINED
BITS_PER_PIXEL: 8
SAMPLES_AND_LINES: 5447 7558
HORIZONTAL_DATUM: NAD83
HORIZONTAL_COORDINATE_SYSTEM: UTM
COORDINATE_ZONE: 13
HORIZONTAL_UNITS: meters
HORIZONTAL_RESOLUTION: 1.00000
SECONDARY_HORIZONTAL_DATUM: NAD27
XY_ORIGIN: 494858.00000 5156856.00000
SECONDARY_XY_ORIGIN: 494898.39700 5156637.02200
NATION: US
STATE: MT
NW_QUAD_CORNER_XY: 495209.75500 5156550.08500
NE_QUAD_CORNER_XY: 500000.00000 5156548.18800
SE_QUAD_CORNERY_XY: 500000.00000 5149603.36200
SW_QUAD_CORNER_XY: 495204.25700 5149605.25900
SECONDARY_NW_QUAD_XY: 495209.60900 5156331.77100
SECONDARY_NE_QUAD_XY: 500000.00000 5156329.87300
SECONDARY_SE_QUAD_XY: 500000.00000 5149385.08100
SECONDARY_SW_QUAD_XY: 495204.11100 5149386.97900
RMSE_XY: 1.19000
IMAGE_SOURCE: BLACK AND WHITE FILM
SOURCE_IMAGE_ID: NAPP 9119-017
SOURCE_IMAGE_DATE: 1996 8 26
SOURCE_DEM_DATE: 1999 0 0
AGENCY: WESTERN MAPPING CENTER (WMC)
PRODUCER: WOOLPERT LLP
PRODUCTION_SYSTEM: INTERGRAPH ISPM, ISIR
COMPRESSION: UNDEFINED
STANDARD_VERSION: 1996 12
METADATA_DATE: 2001 10 10
DATA_FILE_SIZE: 41173873
BYTE_COUNT: 5447
