FILENAME: O4610534.SES.1126572.tif
QUADRANGLE_NAME: MILES CITY
QUADRANT: SE
WEST_LONGITUDE: -105 48 45.00000
EAST_LONGITUDE: -105 45 0.00000
NORTH_LATITUDE: 46 26 15.00000
SOUTH_LATITUDE: 46 22 30.00000
PRODUCTION_DATE: 2001 1 17
RASTER_ORDER: LEFT_RIGHT/TOP_BOTTOM
BAND_ORGANIZATION: SINGLE FILE
BAND_CONTENT: BLACK&WHITE
BAND_CONTENT: UNDEFINED
BAND_CONTENT: UNDEFINED
BITS_PER_PIXEL: 8
SAMPLES_AND_LINES: 5527 7604
HORIZONTAL_DATUM: NAD83
HORIZONTAL_COORDINATE_SYSTEM: UTM
COORDINATE_ZONE: 13
HORIZONTAL_UNITS: meters
HORIZONTAL_RESOLUTION: 1.00000
SECONDARY_HORIZONTAL_DATUM: NAD27
XY_ORIGIN: 437164.00000 5143286.00000
SECONDARY_XY_ORIGIN: 437204.94500 5143066.97800
NATION: US
STATE: MT
NW_QUAD_CORNER_XY: 437584.04300 5142979.30600
NE_QUAD_CORNER_XY: 442385.25700 5142931.86500
SE_QUAD_CORNERY_XY: 442319.41500 5135987.21900
SW_QUAD_CORNER_XY: 437512.71400 5136034.66500
SECONDARY_NW_QUAD_XY: 437582.14300 5142761.07200
SECONDARY_NE_QUAD_XY: 442383.50200 5142713.62900
SECONDARY_SE_QUAD_XY: 442317.66100 5135769.01900
SECONDARY_SW_QUAD_XY: 437510.81400 5135816.46700
RMSE_XY: 2.12000
IMAGE_SOURCE: BLACK AND WHITE FILM
SOURCE_IMAGE_ID: NAPP 10722-046
SOURCE_IMAGE_DATE: 1997 8 25
SOURCE_DEM_DATE: 1999 0 0
AGENCY: WESTERN MAPPING CENTER (WMC)
PRODUCER: WOOLPERT LLP
PRODUCTION_SYSTEM: INTERGRAPH ISPM, ISIR
COMPRESSION: UNDEFINED
STANDARD_VERSION: 1996 12
METADATA_DATE: 2001 1 17
DATA_FILE_SIZE: 42032835
BYTE_COUNT: 5527
