FILENAME: O4610536.SES.1126592.tif
QUADRANGLE_NAME: THE KNOB
QUADRANT: SE
WEST_LONGITUDE: -105 33 45.00000
EAST_LONGITUDE: -105 30 0.00000
NORTH_LATITUDE: 46 26 15.00000
SOUTH_LATITUDE: 46 22 30.00000
PRODUCTION_DATE: 2001 1 18
RASTER_ORDER: LEFT_RIGHT/TOP_BOTTOM
BAND_ORGANIZATION: SINGLE FILE
BAND_CONTENT: BLACK&WHITE
BAND_CONTENT: UNDEFINED
BAND_CONTENT: UNDEFINED
BITS_PER_PIXEL: 8
SAMPLES_AND_LINES: 5504 7589
HORIZONTAL_DATUM: NAD83
HORIZONTAL_COORDINATE_SYSTEM: UTM
COORDINATE_ZONE: 13
HORIZONTAL_UNITS: meters
HORIZONTAL_RESOLUTION: 1.00000
SECONDARY_HORIZONTAL_DATUM: NAD27
XY_ORIGIN: 456392.00000 5143119.00000
SECONDARY_XY_ORIGIN: 456432.75000 5142900.06200
NATION: US
STATE: MT
NW_QUAD_CORNER_XY: 456788.91600 5142812.31500
NE_QUAD_CORNER_XY: 461590.14200 5142780.05500
SE_QUAD_CORNERY_XY: 461546.24800 5135835.39400
SW_QUAD_CORNER_XY: 456739.53600 5135867.65600
SECONDARY_NW_QUAD_XY: 456787.60000 5142594.07500
SECONDARY_NE_QUAD_XY: 461588.97200 5142561.81500
SECONDARY_SE_QUAD_XY: 461545.07900 5135617.18900
SECONDARY_SW_QUAD_XY: 456738.22100 5135649.45300
RMSE_XY: 2.18000
IMAGE_SOURCE: BLACK AND WHITE FILM
SOURCE_IMAGE_ID: NAPP 9094-005
SOURCE_IMAGE_DATE: 1996 7 9
SOURCE_IMAGE_ID: NAPP 9094-006
SOURCE_IMAGE_DATE: 1996 7 9
SOURCE_DEM_DATE: 1999 0 0
AGENCY: WESTERN MAPPING CENTER (WMC)
PRODUCER: WOOLPERT LLP
PRODUCTION_SYSTEM: INTERGRAPH ISPM, ISIR
COMPRESSION: UNDEFINED
STANDARD_VERSION: 1996 12
METADATA_DATE: 2001 1 31
DATA_FILE_SIZE: 41775360
BYTE_COUNT: 5504
