FILENAME: O4610401.NWS.1163705.tif
QUADRANGLE_NAME: MARSH
QUADRANT: NW
WEST_LONGITUDE: -105 0 0.00000
EAST_LONGITUDE: -104 56 15.00000
NORTH_LATITUDE: 47 0 0.00000
SOUTH_LATITUDE: 46 56 15.00000
PRODUCTION_DATE: 2001 8 28
RASTER_ORDER: LEFT_RIGHT/TOP_BOTTOM
BAND_ORGANIZATION: SINGLE FILE
BAND_CONTENT: BLACK&WHITE
BAND_CONTENT: UNDEFINED
BAND_CONTENT: UNDEFINED
BITS_PER_PIXEL: 8
SAMPLES_AND_LINES: 5409 7560
HORIZONTAL_DATUM: NAD83
HORIZONTAL_COORDINATE_SYSTEM: UTM
COORDINATE_ZONE: 13
HORIZONTAL_UNITS: meters
HORIZONTAL_RESOLUTION: 1.00000
SECONDARY_HORIZONTAL_DATUM: NAD27
XY_ORIGIN: 499654.00000 5205473.00000
SECONDARY_XY_ORIGIN: 499694.16100 5205253.34000
NATION: US
STATE: MT
NW_QUAD_CORNER_XY: 500000.00000 5205164.11000
NE_QUAD_CORNER_XY: 504751.59800 5205166.00500
SE_QUAD_CORNERY_XY: 504757.13700 5198220.64500
SW_QUAD_CORNER_XY: 500000.00000 5198218.75000
SECONDARY_NW_QUAD_XY: 500000.00000 5204945.57600
SECONDARY_NE_QUAD_XY: 504751.74500 5204947.47100
SECONDARY_SE_QUAD_XY: 504757.28300 5198002.14000
SECONDARY_SW_QUAD_XY: 500000.00000 5198000.24400
RMSE_XY: 2.55000
IMAGE_SOURCE: BLACK AND WHITE FILM
SOURCE_IMAGE_ID: NAPP 9096-077
SOURCE_IMAGE_DATE: 1996 7 9
SOURCE_DEM_DATE: 1999 0 0
AGENCY: WESTERN MAPPING CENTER (WMC)
PRODUCER: WOOLPERT LLP
PRODUCTION_SYSTEM: INTERGRAPH ISPM, ISIR
COMPRESSION: UNDEFINED
STANDARD_VERSION: 1996 12
METADATA_DATE: 2001 8 28
DATA_FILE_SIZE: 40897449
BYTE_COUNT: 5409
