FILENAME: O4610402.SWS.1160693.tif
QUADRANGLE_NAME: HOYT
QUADRANT: SW
WEST_LONGITUDE: -104 52 30.00000
EAST_LONGITUDE: -104 48 45.00000
NORTH_LATITUDE: 46 56 15.00000
SOUTH_LATITUDE: 46 52 30.00000
PRODUCTION_DATE: 2001 9 21
RASTER_ORDER: LEFT_RIGHT/TOP_BOTTOM
BAND_ORGANIZATION: SINGLE FILE
BAND_CONTENT: BLACK&WHITE
BAND_CONTENT: UNDEFINED
BAND_CONTENT: UNDEFINED
BITS_PER_PIXEL: 8
SAMPLES_AND_LINES: 5425 7566
HORIZONTAL_DATUM: NAD83
HORIZONTAL_COORDINATE_SYSTEM: UTM
COORDINATE_ZONE: 13
HORIZONTAL_UNITS: meters
HORIZONTAL_RESOLUTION: 1.00000
SECONDARY_HORIZONTAL_DATUM: NAD27
XY_ORIGIN: 509169.00000 5198542.00000
SECONDARY_XY_ORIGIN: 509209.05900 5198322.44200
NATION: US
STATE: MT
NW_QUAD_CORNER_XY: 509514.27300 5198226.33200
NE_QUAD_CORNER_XY: 514271.40800 5198235.81100
SE_QUAD_CORNERY_XY: 514288.00500 5191290.52900
SW_QUAD_CORNER_XY: 509525.33700 5191281.04900
SECONDARY_NW_QUAD_XY: 509514.56500 5198007.82700
SECONDARY_NE_QUAD_XY: 514271.84700 5198017.30600
SECONDARY_SE_QUAD_XY: 514288.44400 5191072.05400
SECONDARY_SW_QUAD_XY: 509525.63000 5191062.57400
RMSE_XY: 2.26000
IMAGE_SOURCE: BLACK AND WHITE FILM
SOURCE_IMAGE_ID: NAPP 9108-217
SOURCE_IMAGE_DATE: 1996 8 8
SOURCE_DEM_DATE: 1999 0 0
AGENCY: WESTERN MAPPING CENTER (WMC)
PRODUCER: WOOLPERT LLP
PRODUCTION_SYSTEM: INTERGRAPH ISPM, ISIR
COMPRESSION: UNDEFINED
STANDARD_VERSION: 1996 12
METADATA_DATE: 2001 10 3
DATA_FILE_SIZE: 41050975
BYTE_COUNT: 5425
