FILENAME: O4610402.SES.1160691.tif
QUADRANGLE_NAME: HOYT
QUADRANT: SE
WEST_LONGITUDE: -104 48 45.00000
EAST_LONGITUDE: -104 45 0.00000
NORTH_LATITUDE: 46 56 15.00000
SOUTH_LATITUDE: 46 52 30.00000
PRODUCTION_DATE: 2001 9 21
RASTER_ORDER: LEFT_RIGHT/TOP_BOTTOM
BAND_ORGANIZATION: SINGLE FILE
BAND_CONTENT: BLACK&WHITE
BAND_CONTENT: UNDEFINED
BAND_CONTENT: UNDEFINED
BITS_PER_PIXEL: 8
SAMPLES_AND_LINES: 5430 7571
HORIZONTAL_DATUM: NAD83
HORIZONTAL_COORDINATE_SYSTEM: UTM
COORDINATE_ZONE: 13
HORIZONTAL_UNITS: meters
HORIZONTAL_RESOLUTION: 1.00000
SECONDARY_HORIZONTAL_DATUM: NAD27
XY_ORIGIN: 513926.00000 5198556.00000
SECONDARY_XY_ORIGIN: 513965.99300 5198336.44100
NATION: US
STATE: MT
NW_QUAD_CORNER_XY: 514271.40800 5198235.81100
NE_QUAD_CORNER_XY: 519028.54200 5198249.08000
SE_QUAD_CORNERY_XY: 519050.67200 5191303.80100
SW_QUAD_CORNER_XY: 514288.00500 5191290.52900
SECONDARY_NW_QUAD_XY: 514271.84700 5198017.30600
SECONDARY_NE_QUAD_XY: 519029.12800 5198030.57600
SECONDARY_SE_QUAD_XY: 519051.25700 5191085.32500
SECONDARY_SW_QUAD_XY: 514288.44400 5191072.05400
RMSE_XY: 2.35000
IMAGE_SOURCE: BLACK AND WHITE FILM
SOURCE_IMAGE_ID: NAPP 9081-018
SOURCE_IMAGE_DATE: 1996 6 12
SOURCE_IMAGE_ID: NAPP 9081-019
SOURCE_IMAGE_DATE: 1996 6 12
SOURCE_DEM_DATE: 1999 0 0
AGENCY: WESTERN MAPPING CENTER (WMC)
PRODUCER: WOOLPERT LLP
PRODUCTION_SYSTEM: INTERGRAPH ISPM, ISIR
COMPRESSION: UNDEFINED
STANDARD_VERSION: 1996 12
METADATA_DATE: 2001 10 3
DATA_FILE_SIZE: 41115960
BYTE_COUNT: 5430
