FILENAME: O4610403.SWS.1160714.tif
QUADRANGLE_NAME: UPPER MAGPIE RESERVOIR
QUADRANT: SW
WEST_LONGITUDE: -104 45 0.00000
EAST_LONGITUDE: -104 41 15.00000
NORTH_LATITUDE: 46 56 15.00000
SOUTH_LATITUDE: 46 52 30.00000
PRODUCTION_DATE: 2001 9 21
RASTER_ORDER: LEFT_RIGHT/TOP_BOTTOM
BAND_ORGANIZATION: SINGLE FILE
BAND_CONTENT: BLACK&WHITE
BAND_CONTENT: UNDEFINED
BAND_CONTENT: UNDEFINED
BITS_PER_PIXEL: 8
SAMPLES_AND_LINES: 5435 7575
HORIZONTAL_DATUM: NAD83
HORIZONTAL_COORDINATE_SYSTEM: UTM
COORDINATE_ZONE: 13
HORIZONTAL_UNITS: meters
HORIZONTAL_RESOLUTION: 1.00000
SECONDARY_HORIZONTAL_DATUM: NAD27
XY_ORIGIN: 518684.00000 5198573.00000
SECONDARY_XY_ORIGIN: 518723.92800 5198353.44000
NATION: US
STATE: MT
NW_QUAD_CORNER_XY: 519028.54200 5198249.08000
NE_QUAD_CORNER_XY: 523785.67500 5198266.14100
SE_QUAD_CORNERY_XY: 523813.33700 5191320.86400
SW_QUAD_CORNER_XY: 519050.67200 5191303.80100
SECONDARY_NW_QUAD_XY: 519029.12800 5198030.57600
SECONDARY_NE_QUAD_XY: 523786.40700 5198047.63700
SECONDARY_SE_QUAD_XY: 523814.06900 5191102.38900
SECONDARY_SW_QUAD_XY: 519051.25700 5191085.32500
RMSE_XY: 2.15000
IMAGE_SOURCE: BLACK AND WHITE FILM
SOURCE_IMAGE_ID: NAPP 9080-199
SOURCE_IMAGE_DATE: 1996 6 12
SOURCE_IMAGE_ID: NAPP 9080-200
SOURCE_IMAGE_DATE: 1996 6 12
SOURCE_DEM_DATE: 1999 0 0
AGENCY: WESTERN MAPPING CENTER (WMC)
PRODUCER: WOOLPERT LLP
PRODUCTION_SYSTEM: INTERGRAPH ISPM, ISIR
COMPRESSION: UNDEFINED
STANDARD_VERSION: 1996 12
METADATA_DATE: 2001 10 3
DATA_FILE_SIZE: 41175560
BYTE_COUNT: 5435
