FILENAME: O4610404.NES.1163644.tif
QUADRANGLE_NAME: TWIN FORKS RESERVOIR
QUADRANT: NE
WEST_LONGITUDE: -104 33 45.00000
EAST_LONGITUDE: -104 30 0.00000
NORTH_LATITUDE: 47 0 0.00000
SOUTH_LATITUDE: 46 56 15.00000
PRODUCTION_DATE: 2001 9 24
RASTER_ORDER: LEFT_RIGHT/TOP_BOTTOM
BAND_ORGANIZATION: SINGLE FILE
BAND_CONTENT: BLACK&WHITE
BAND_CONTENT: UNDEFINED
BAND_CONTENT: UNDEFINED
BITS_PER_PIXEL: 8
SAMPLES_AND_LINES: 5446 7586
HORIZONTAL_DATUM: NAD83
HORIZONTAL_COORDINATE_SYSTEM: UTM
COORDINATE_ZONE: 13
HORIZONTAL_UNITS: meters
HORIZONTAL_RESOLUTION: 1.00000
SECONDARY_HORIZONTAL_DATUM: NAD27
XY_ORIGIN: 532917.00000 5205592.00000
SECONDARY_XY_ORIGIN: 532956.69500 5205372.36100
NATION: US
STATE: MT
NW_QUAD_CORNER_XY: 533261.16700 5205256.98400
NE_QUAD_CORNER_XY: 538012.75500 5205285.41500
SE_QUAD_CORNERY_XY: 538057.06100 5198340.07300
SW_QUAD_CORNER_XY: 533299.93500 5198311.63700
SECONDARY_NW_QUAD_XY: 533262.19200 5205038.45200
SECONDARY_NE_QUAD_XY: 538013.92600 5205066.88400
SECONDARY_SE_QUAD_XY: 538058.23200 5198121.57100
SECONDARY_SW_QUAD_XY: 533300.95900 5198093.13500
RMSE_XY: 2.00000
IMAGE_SOURCE: BLACK AND WHITE FILM
SOURCE_IMAGE_ID: NAPP 9108-039
SOURCE_IMAGE_DATE: 1996 8 8
SOURCE_IMAGE_ID: NAPP 9108-088
SOURCE_IMAGE_DATE: 1996 8 8
SOURCE_IMAGE_ID: NAPP 9108-072
SOURCE_IMAGE_DATE: 1996 8 8
SOURCE_IMAGE_ID: NAPP 9108-074
SOURCE_IMAGE_DATE: 1996 8 8
SOURCE_IMAGE_ID: NAPP 9108-037
SOURCE_IMAGE_DATE: 1996 8 8
SOURCE_DEM_DATE: 1999 0 0
AGENCY: WESTERN MAPPING CENTER (WMC)
PRODUCER: WOOLPERT LLP
PRODUCTION_SYSTEM: INTERGRAPH ISPM, ISIR
COMPRESSION: UNDEFINED
STANDARD_VERSION: 1996 12
METADATA_DATE: 2001 10 10
DATA_FILE_SIZE: 41318802
BYTE_COUNT: 5446
