FILENAME: O4610406.NES.1159419.tif
QUADRANGLE_NAME: FREEMAN CREEK
QUADRANT: NE
WEST_LONGITUDE: -104 18 45.00000
EAST_LONGITUDE: -104 15 0.00000
NORTH_LATITUDE: 47 0 0.00000
SOUTH_LATITUDE: 46 56 15.00000
PRODUCTION_DATE: 2001 9 15
RASTER_ORDER: LEFT_RIGHT/TOP_BOTTOM
BAND_ORGANIZATION: SINGLE FILE
BAND_CONTENT: BLACK&WHITE
BAND_CONTENT: UNDEFINED
BAND_CONTENT: UNDEFINED
BITS_PER_PIXEL: 8
SAMPLES_AND_LINES: 5467 7601
HORIZONTAL_DATUM: NAD83
HORIZONTAL_COORDINATE_SYSTEM: UTM
COORDINATE_ZONE: 13
HORIZONTAL_UNITS: meters
HORIZONTAL_RESOLUTION: 1.00000
SECONDARY_HORIZONTAL_DATUM: NAD27
XY_ORIGIN: 551924.00000 5205744.00000
SECONDARY_XY_ORIGIN: 551963.39300 5205524.33500
NATION: US
STATE: MT
NW_QUAD_CORNER_XY: 552267.49800 5205393.45500
NE_QUAD_CORNER_XY: 557019.07100 5205437.05100
SE_QUAD_CORNERY_XY: 557085.53100 5198491.73000
SW_QUAD_CORNER_XY: 552328.41900 5198448.12800
SECONDARY_NW_QUAD_XY: 552269.10900 5205174.92800
SECONDARY_NE_QUAD_XY: 557020.82800 5205218.52500
SECONDARY_SE_QUAD_XY: 557087.28800 5198273.23300
SECONDARY_SW_QUAD_XY: 552330.03000 5198229.63000
RMSE_XY: 1.31000
IMAGE_SOURCE: BLACK AND WHITE FILM
SOURCE_IMAGE_ID: NAPP 9124-038
SOURCE_IMAGE_DATE: 1997 8 22
SOURCE_IMAGE_ID: NAPP 9095-055
SOURCE_IMAGE_DATE: 1996 7 9
SOURCE_DEM_DATE: 1999 0 0
AGENCY: WESTERN MAPPING CENTER (WMC)
PRODUCER: WOOLPERT LLP
PRODUCTION_SYSTEM: INTERGRAPH ISPM, ISIR
COMPRESSION: UNDEFINED
STANDARD_VERSION: 1996 12
METADATA_DATE: 2001 9 18
DATA_FILE_SIZE: 41560134
BYTE_COUNT: 5467
