FILENAME: O4610407.SWS.1159453.tif
QUADRANGLE_NAME: WIBAUX
QUADRANT: SW
WEST_LONGITUDE: -104 15 0.00000
EAST_LONGITUDE: -104 11 15.00000
NORTH_LATITUDE: 46 56 15.00000
SOUTH_LATITUDE: 46 52 30.00000
PRODUCTION_DATE: 2001 9 16
RASTER_ORDER: LEFT_RIGHT/TOP_BOTTOM
BAND_ORGANIZATION: SINGLE FILE
BAND_CONTENT: BLACK&WHITE
BAND_CONTENT: UNDEFINED
BAND_CONTENT: UNDEFINED
BITS_PER_PIXEL: 8
SAMPLES_AND_LINES: 5478 7605
HORIZONTAL_DATUM: NAD83
HORIZONTAL_COORDINATE_SYSTEM: UTM
COORDINATE_ZONE: 13
HORIZONTAL_UNITS: meters
HORIZONTAL_RESOLUTION: 1.00000
SECONDARY_HORIZONTAL_DATUM: NAD27
XY_ORIGIN: 556742.00000 5198846.00000
SECONDARY_XY_ORIGIN: 556781.34500 5198626.39300
NATION: US
STATE: MT
NW_QUAD_CORNER_XY: 557085.53100 5198491.73000
NE_QUAD_CORNER_XY: 561842.63800 5198539.12400
SE_QUAD_CORNERY_XY: 561914.56300 5191593.88600
SW_QUAD_CORNER_XY: 557151.92300 5191546.48500
SECONDARY_NW_QUAD_XY: 557087.28800 5198273.23300
SECONDARY_NE_QUAD_XY: 561844.54200 5198320.62900
SECONDARY_SE_QUAD_XY: 561916.46600 5191375.42000
SECONDARY_SW_QUAD_XY: 557153.68000 5191328.01800
RMSE_XY: 2.42000
IMAGE_SOURCE: BLACK AND WHITE FILM
SOURCE_IMAGE_ID: NAPP 9123-234
SOURCE_IMAGE_DATE: 1997 8 3
SOURCE_DEM_DATE: 1999 0 0
AGENCY: WESTERN MAPPING CENTER (WMC)
PRODUCER: WOOLPERT LLP
PRODUCTION_SYSTEM: INTERGRAPH ISPM, ISIR
COMPRESSION: UNDEFINED
STANDARD_VERSION: 1996 12
METADATA_DATE: 2001 9 27
DATA_FILE_SIZE: 41665668
BYTE_COUNT: 5478
