FILENAME: O4610407.SES.1159452.tif
QUADRANGLE_NAME: WIBAUX
QUADRANT: SE
WEST_LONGITUDE: -104 11 15.00000
EAST_LONGITUDE: -104 7 30.00000
NORTH_LATITUDE: 46 56 15.00000
SOUTH_LATITUDE: 46 52 30.00000
PRODUCTION_DATE: 2001 9 16
RASTER_ORDER: LEFT_RIGHT/TOP_BOTTOM
BAND_ORGANIZATION: SINGLE FILE
BAND_CONTENT: BLACK&WHITE
BAND_CONTENT: UNDEFINED
BAND_CONTENT: UNDEFINED
BITS_PER_PIXEL: 8
SAMPLES_AND_LINES: 5483 7609
HORIZONTAL_DATUM: NAD83
HORIZONTAL_COORDINATE_SYSTEM: UTM
COORDINATE_ZONE: 13
HORIZONTAL_UNITS: meters
HORIZONTAL_RESOLUTION: 1.00000
SECONDARY_HORIZONTAL_DATUM: NAD27
XY_ORIGIN: 561500.00000 5198897.00000
SECONDARY_XY_ORIGIN: 561539.30200 5198677.41500
NATION: US
STATE: MT
NW_QUAD_CORNER_XY: 561842.63800 5198539.12400
NE_QUAD_CORNER_XY: 566599.74100 5198590.31000
SE_QUAD_CORNERY_XY: 566677.19900 5191645.07900
SW_QUAD_CORNER_XY: 561914.56300 5191593.88600
SECONDARY_NW_QUAD_XY: 561844.54200 5198320.62900
SECONDARY_NE_QUAD_XY: 566601.79000 5198371.81600
SECONDARY_SE_QUAD_XY: 566679.24900 5191426.61400
SECONDARY_SW_QUAD_XY: 561916.46600 5191375.42000
RMSE_XY: 2.15000
IMAGE_SOURCE: BLACK AND WHITE FILM
SOURCE_IMAGE_ID: NAPP 10766-124
SOURCE_IMAGE_DATE: 1998 7 10
SOURCE_DEM_DATE: 1999 0 0
AGENCY: WESTERN MAPPING CENTER (WMC)
PRODUCER: WOOLPERT LLP
PRODUCTION_SYSTEM: INTERGRAPH ISPM, ISIR
COMPRESSION: UNDEFINED
STANDARD_VERSION: 1996 12
METADATA_DATE: 2001 9 27
DATA_FILE_SIZE: 41725630
BYTE_COUNT: 5483
